BEGIN:VCALENDAR
VERSION:2.0
PRODID:-//American Romanian Festival - ECPv6.15.20//NONSGML v1.0//EN
CALSCALE:GREGORIAN
METHOD:PUBLISH
X-WR-CALNAME:American Romanian Festival
X-ORIGINAL-URL:https://americanromanianfestival.org
X-WR-CALDESC:Events for American Romanian Festival
REFRESH-INTERVAL;VALUE=DURATION:PT1H
X-Robots-Tag:noindex
X-PUBLISHED-TTL:PT1H
BEGIN:VTIMEZONE
TZID:America/Detroit
BEGIN:DAYLIGHT
TZOFFSETFROM:-0500
TZOFFSETTO:-0400
TZNAME:EDT
DTSTART:20040404T070000
END:DAYLIGHT
BEGIN:STANDARD
TZOFFSETFROM:-0400
TZOFFSETTO:-0500
TZNAME:EST
DTSTART:20041031T060000
END:STANDARD
BEGIN:DAYLIGHT
TZOFFSETFROM:-0500
TZOFFSETTO:-0400
TZNAME:EDT
DTSTART:20050403T070000
END:DAYLIGHT
BEGIN:STANDARD
TZOFFSETFROM:-0400
TZOFFSETTO:-0500
TZNAME:EST
DTSTART:20051030T060000
END:STANDARD
BEGIN:DAYLIGHT
TZOFFSETFROM:-0500
TZOFFSETTO:-0400
TZNAME:EDT
DTSTART:20060402T070000
END:DAYLIGHT
BEGIN:STANDARD
TZOFFSETFROM:-0400
TZOFFSETTO:-0500
TZNAME:EST
DTSTART:20061029T060000
END:STANDARD
END:VTIMEZONE
BEGIN:VEVENT
DTSTART;VALUE=DATE:20050323
DTEND;VALUE=DATE:20050415
DTSTAMP:20260423T203916
CREATED:20140804T085158Z
LAST-MODIFIED:20181128T180000Z
UID:661-1111536000-1113523199@americanromanianfestival.org
SUMMARY:2005 American Romanian Festival
DESCRIPTION:Program Book\n \n\nTimisoara\, Romania\nTuesday\, March 22\n10 a.m.\nLecture\, Carol Chaney\nInstitute Of Art Timisoara\nFree \nWednesday\, March 23\n2 p.m. Master Class\, Markou\nMusic Conservatory\n7:00 p.m. Voice Recital\nGoltz\, Skelton\nNational College Of Art Ion Vidu\nFree \nThursday\, March 24\n7:00 p.m. Orchestra Concert\nBanatul Filarmonic\nMarkou\, Goltz\, Skelton\, Dolniceanu\, Mihaly\nNational College Of Art Ion Vidu\n$ \nFriday\, March 25\n10 a.m. Master Class\, Skelton\n12 p.m. Master Class\, Goltz\n2 p.m. Lecture Skelton\n3:00 p.m. Lecture\, Goltz\nConservatory Of Music\nFree \nSaturday\, March 26\n7:00 p.m. Chamber Music Concert\nButaru\, Gutu\, Mihailescu\, Skelton\, Tanau\nNational College Of Art Ion Vidu\nFree \n\nDetroit • Ann Arbor\, United States\nFriday\, April 8\n11:45 a.m. Lecture\, Cornel Taranu\nWayne State University\n3:30 p.m. Composition Seminar\nCornel\, Taranu\nUniversity Of Michigan\, School Of Music\nFree \nSunday\, April 10\n7:30 p.m. Violin\, Piano Works\nHarding\, Skelton\, Stepniewski\, Tanau\, Wu\nKerrytown Concert House\, Ann Arbor\n$10-25 \nMonday\, April 11\n12 p.m. Lecture\, Cornel Taranu\nInstitute Of Humanities\, Rackham Auditorium\, Ann Arbor\n8 p.m. Wayne State Chamber Orchestra\nCommunity Arts Auditorium\, Detroit\n$3-5 \nTuesday\, April 12\n7:00 p.m. Concert\, Romanian Music\nDuitman\, Demaine\, Rudolf\nSkelton\, Tanau\, Ventura\nUniversity Of Michigan Art Museum\, Ann Arbor\nFree \nThursday\, April 14\n8 p.m. Concert Romanian Music\nConway\, Duitman\, Demaine\, Lauber\nRudolf\, Skelton\, Tanau\, Ventura\nAllesee Hall\, Max M. Fisher Music Center\, Detroit\n$20
URL:https://americanromanianfestival.org/event/2005-american-romanian-festival/
CATEGORIES:2005 American Romanian Festival,American Romanian Festival Events
END:VEVENT
END:VCALENDAR