BEGIN:VCALENDAR
VERSION:2.0
PRODID:-//American Romanian Festival - ECPv6.15.20//NONSGML v1.0//EN
CALSCALE:GREGORIAN
METHOD:PUBLISH
X-ORIGINAL-URL:https://americanromanianfestival.org
X-WR-CALDESC:Events for American Romanian Festival
REFRESH-INTERVAL;VALUE=DURATION:PT1H
X-Robots-Tag:noindex
X-PUBLISHED-TTL:PT1H
BEGIN:VTIMEZONE
TZID:America/Detroit
BEGIN:DAYLIGHT
TZOFFSETFROM:-0500
TZOFFSETTO:-0400
TZNAME:EDT
DTSTART:20080309T070000
END:DAYLIGHT
BEGIN:STANDARD
TZOFFSETFROM:-0400
TZOFFSETTO:-0500
TZNAME:EST
DTSTART:20081102T060000
END:STANDARD
BEGIN:DAYLIGHT
TZOFFSETFROM:-0500
TZOFFSETTO:-0400
TZNAME:EDT
DTSTART:20090308T070000
END:DAYLIGHT
BEGIN:STANDARD
TZOFFSETFROM:-0400
TZOFFSETTO:-0500
TZNAME:EST
DTSTART:20091101T060000
END:STANDARD
BEGIN:DAYLIGHT
TZOFFSETFROM:-0500
TZOFFSETTO:-0400
TZNAME:EDT
DTSTART:20100314T070000
END:DAYLIGHT
BEGIN:STANDARD
TZOFFSETFROM:-0400
TZOFFSETTO:-0500
TZNAME:EST
DTSTART:20101107T060000
END:STANDARD
END:VTIMEZONE
BEGIN:VEVENT
DTSTART;TZID=America/Detroit:20091023T080000
DTEND;TZID=America/Detroit:20091023T170000
DTSTAMP:20260423T204427
CREATED:20140725T073231Z
LAST-MODIFIED:20181128T175958Z
UID:214-1256284800-1256317200@americanromanianfestival.org
SUMMARY:Photography & Music Fusion Event
DESCRIPTION:Friday\, October 23\, 2009\, 8 p.m.\nKerrytown Concert House \n$25\, $15\, $10\, tickets at the door admission\n\nPhotography Exhibit and Lecture\nUniquely Detroit\nDonald Jones\nPresentation by James Hartway \n\nChamber Music Concert Program \nJames Hartway\nCity Sketches for Violin\, Cello and Piano (1987)\nAssembly Line\nHoly Cathedral\nMarble Fountain\nAbandoned House\nFestival Weekend\nVasile Beluska\, violin\, Alan Smith\, cello\, Robert Conway piano \n– INTERMISSION –\nBela Bartok (1881-1945)\nPiano Quintet\nAndante\nVivace (Scherzando)\nAdagio\nPoco a poco piu vivace\nVasile Beluska\, violin\, Marian Tanau\, violin\,\nMegan Fergusson\, viola\, Paul Wingert\, cello\,\nRobert Conway piano
URL:https://americanromanianfestival.org/event/photography-music-fusion-event/
LOCATION:Kerrytown Concert House\,  415 N 4th Ave\, Ann Arbor\, MI\, 48104\, United States
CATEGORIES:2009 American Romanian Festival,2009 Fusion Series,American Romanian Festival Events
END:VEVENT
END:VCALENDAR