BEGIN:VCALENDAR
VERSION:2.0
PRODID:-//American Romanian Festival - ECPv6.15.20//NONSGML v1.0//EN
CALSCALE:GREGORIAN
METHOD:PUBLISH
X-ORIGINAL-URL:https://americanromanianfestival.org
X-WR-CALDESC:Events for American Romanian Festival
REFRESH-INTERVAL;VALUE=DURATION:PT1H
X-Robots-Tag:noindex
X-PUBLISHED-TTL:PT1H
BEGIN:VTIMEZONE
TZID:America/Detroit
BEGIN:DAYLIGHT
TZOFFSETFROM:-0500
TZOFFSETTO:-0400
TZNAME:EDT
DTSTART:20090308T070000
END:DAYLIGHT
BEGIN:STANDARD
TZOFFSETFROM:-0400
TZOFFSETTO:-0500
TZNAME:EST
DTSTART:20091101T060000
END:STANDARD
BEGIN:DAYLIGHT
TZOFFSETFROM:-0500
TZOFFSETTO:-0400
TZNAME:EDT
DTSTART:20100314T070000
END:DAYLIGHT
BEGIN:STANDARD
TZOFFSETFROM:-0400
TZOFFSETTO:-0500
TZNAME:EST
DTSTART:20101107T060000
END:STANDARD
BEGIN:DAYLIGHT
TZOFFSETFROM:-0500
TZOFFSETTO:-0400
TZNAME:EDT
DTSTART:20110313T070000
END:DAYLIGHT
BEGIN:STANDARD
TZOFFSETFROM:-0400
TZOFFSETTO:-0500
TZNAME:EST
DTSTART:20111106T060000
END:STANDARD
END:VTIMEZONE
BEGIN:VEVENT
DTSTART;TZID=America/Detroit:20100925T193000
DTEND;TZID=America/Detroit:20100925T210000
DTSTAMP:20260423T205353
CREATED:20140801T081625Z
LAST-MODIFIED:20181128T175956Z
UID:381-1285443000-1285448400@americanromanianfestival.org
SUMMARY:US 2010 Film Premiere: La Métropolitaine by Director Dan Popa and other short movies: Film Screenings\, Q&A
DESCRIPTION:Saturday\, September 25\, 2010\, 7:30 p.m.\nHelmut Stern Auditorium\n525 South State Street\, Ann Arbor 48109\n\nFree Admission \n\nFilm Screenings\nUS 2010 Film Premiere: La Métropolitaine by Director Dan Popa and other short movies\nPlease join American Romanian Festival Executive Director Marian Tanau \, Ramona Uritescu-Lombard\, film scholar and Lecturer in the German and Comparative Literature departments at the University of Michigan\, and Director Dan Popa for a discussion and Q&A after the film. Discussion and Q&A after the screening.  \n\nThe Metropolitan\nLa Métropolitaine\, 2010\, Dan Popa\, 24 min\, TIFF 2010 entry\, Fiction\, French\, English subtitles \nThe Metropolitan is an experimental fiction film that combines architecture\, travel and love. The love story takes place in seven underground subway systems around the world. The film is characterized by colors and poetry which depict themes on life in transition. Visually the film consists of a montage of 21000 pictures from several hundred subway stations as we follow the protagonist in his search for true love. \n\nOli’s Wedding\nNunta lui Oli\, 2009\, Tudor Cristian Jurgiu\, 22 min\, Best Romanian Short Film NexT IFF 2009\, NR\, English subtitles \nAlone in his kitchen in Bucharest\, Dorel prepares for what seems to be a party. Actually\, it’s his son’s wedding which takes place in the USA. Dorel is going to watch the wedding through a webcam together with two of his son’s friends. On the small display they are going to meet the bride\, her father and will witness the ceremony. A bitter-sweet story about scattered families and lonely parents. \n\nMidi\nNoon\, 2008\, Dan Popa\, 6 min\, TIFF 2008 entry\, Fiction\, NR\, French\, English subtitles \nToday is Koppa’s birthday\, and he is celebrating it by sitting on his 9th floor balcony and putting the finishing touches on his customized fishing hooks. After dinner\, and a brief one-way conversation\, Koppa reveals to the audience the nature of his anxiety; he hates his own inability to do anything about his future.
URL:https://americanromanianfestival.org/event/us-2010-film-premiere-la-metropolitaine-by-director-dan-popa-and-other-short-movies-film-screenings-qa/
LOCATION:Helmut Stern Auditorium\, University of Michigan Museum of Art (UMMA)\,  525 South State Street\, Ann Arbor\, 48109\, United States
CATEGORIES:2010 American Romanian Festival,2010 Film Series,American Romanian Festival Events
ATTACH;FMTTYPE=image/jpeg:https://americanromanianfestival.org/wp-content/uploads/2014/08/La-Metropolitaine-Photo-copy.jpg
END:VEVENT
BEGIN:VEVENT
DTSTART;TZID=America/Detroit:20100925T160000
DTEND;TZID=America/Detroit:20100925T183000
DTSTAMP:20260423T205353
CREATED:20140802T015710Z
LAST-MODIFIED:20181205T190815Z
UID:434-1285430400-1285439400@americanromanianfestival.org
SUMMARY:Gently Anastasia Was Passing: Film Screening\, Q&A
DESCRIPTION:Saturday\, September 25\, 2010\, 4:00 p.m.\nHelmut Stern Auditorium\n525 South State Street\, Ann Arbor 48109\n\nFree Admission \n\nPlease join American Romanian Festival Executive Director Marian Tanau\, Ramona Uritescu-Lombard\, film scholar and Lecturer in the German and Comparative Literature departments at the University of Michigan\, and Director Dan Popa for a discussion and Q&A after the film. \n\nFilm Screening\nGently Anastasia Was Passing\nDuios Anastasia Trecea; 1979\, Alexandru Tatos\, 100 min\, English subtitles \nThis drama is set on a border town on the Danube in 1944 in a town occupied by the Germans. There are plenty of collaborators eager to please the Germans. A number of the young men join the partisans which by orders of the Germans are to be killed on sight. When a Serbian partisan is killed and the orders are to have his body thrown into the village\, forbidding anyone to bury it – Anastasia refuses to obey the order. ❖
URL:https://americanromanianfestival.org/event/gently-anastasia-was-passing-film-screening-qa/
LOCATION:Helmut Stern Auditorium\, University of Michigan Museum of Art (UMMA)\,  525 South State Street\, Ann Arbor\, 48109\, United States
CATEGORIES:2010 American Romanian Festival,2010 Film Series,American Romanian Festival Events
END:VEVENT
BEGIN:VEVENT
DTSTART;TZID=America/Detroit:20100924T190000
DTEND;TZID=America/Detroit:20100924T210000
DTSTAMP:20260423T205353
CREATED:20140801T164259Z
LAST-MODIFIED:20181128T175956Z
UID:433-1285354800-1285362000@americanromanianfestival.org
SUMMARY:Police\, Adjective: Film Screening\, Q&A
DESCRIPTION:Friday\, September 24\, 2010\, 7:15 p.m.\, Pre-screening Talk\, 7:00 p.m.\nHelmut Stern Auditorium\n525 South State Street\, Ann Arbor 48109 \nFree Admission\n\nPlease join American Romanian Festival Executive Director Marian Tanau\, Ramona Uritescu-Lombard\, film scholar and Lecturer in the German and Comparative Literature departments at the University of Michigan\, and Director Dan Popa for a discussion and Q&A after the film. \n\nFilm Screening\nPolice\, Adjective \nPolitist\, Adjectiv; 2009\, Corneliu Porumboiu\, Cannes\, Un Certain Regard\, 115 min\, NR\, English subtitles \nCristi is a policeman who refuses to arrest a young man who offers hash to two of his school- mates. “Offering” is punished by the law. Cristi believes that the law will change\, he does not want the life of a young man he considers irresponsible to be a burden on his conscience. For his superior the word conscience has an entirely different meaning. \n\nFILM FESTIVALS & AWARDS\n2009 Cannes International Festival Un Certain Regard Jury Prize\n2009 Toronto International Film Festival\nNew York Film Festival
URL:https://americanromanianfestival.org/event/police-adjective-film-screening-qa/
LOCATION:Helmut Stern Auditorium\, University of Michigan Museum of Art (UMMA)\,  525 South State Street\, Ann Arbor\, 48109\, United States
CATEGORIES:2010 American Romanian Festival,2010 Film Series,American Romanian Festival Events
END:VEVENT
BEGIN:VEVENT
DTSTART;TZID=America/Detroit:20100918T193000
DTEND;TZID=America/Detroit:20100918T213000
DTSTAMP:20260423T205353
CREATED:20140801T163917Z
LAST-MODIFIED:20181128T175956Z
UID:432-1284838200-1284845400@americanromanianfestival.org
SUMMARY:Award-Winning Short Films: Film Screenings\, Q&A
DESCRIPTION:Saturday\, September 18\, 2010\, 7:30 p.m.\nHelmut Stern Auditorium\n525 South State Street\, Ann Arbor 48109 \nFree Admission\n\nPlease join American Romanian Festival Executive Director Marian Tanau\, and Ramona Uritescu-Lombard\, film scholar and Lecturer in the German and Comparative Literature departments at the University of Michigan\, for a talk about Alexandru Tatos and Q&A after the film. \n\nFilm Screenings\nA Trip To The City \nCalatorie la Oras; 2003\, Corneliu Porumboiu\, 19 min\, Cinefondation Prize\, Cannes 2004\, Best Prize-Montpelier\, France 2004\, English subtitles\nA beautiful morning\, the need of the internet in a little village and the toilet that the mayor’s wife is crying for\, bring together the computer pensioned teacher and the mayor’s driver for a little trip to the nearby city in this short film by Corneliu Porumboiu\, the director of 12:08 East of Bucharest and Police Adjective. \n\nCigarettes and Coffee \nUn cartus de kent si un pachet de cafea; 2003\, Cristi Puiu\, 13 min\, Golden Bear Award\, Berlin 2004\, English subtitles\nFrom the director of “Death of Mr. Lazarescu” comes this short movie about a very common problem with which the elder generations are confronted: the issue of knowing little and being offered even less. An old man enters a restaurant in Bucharest. He takes a seat at a table where a younger man who looks like he could be a successful businessman is already eating dessert. Their conversation revolves around a job opening for the older man\, who has been out of work for two years. However\, if you want work these days\, it’s no good coming empty-handed — even if it’s your son who’s doing the employing. \n\nThe Apartment\nApartamentul; 2003\, Constantin Popescu\, 20 min\, Best Prize- Venice Film Festival 2004\, 	English subtitles\nIt’s morning. A man wakes up and gets ready for a new day of work or maybe for a short trip. His wife makes him breakfast and then she prepares him a little suitcase. The man leaves\, exits the apartment building. The man returns using the back entrance. A farce without a dialogue between the characters.  \n\nTraffic\nTrafic; 2003\, Catalin Mitulescu\, 15 min\, Palme D’Or –Cannes 2004\, English subtitles\nOn his way to the next business meeting\, Tudor has a 20-minute break. This is enough time to invite a girl to drink a coffee\, talk about his daughter and take a photo.  \n\nHumanitarian Aid\nAjutoare Umanitare; 2002\, Hanno Höfer\, 16 min\, Great Prize-Cottbus\, Germany 2002\, 		English subtitles\nThree young men come to Romania to bring humanitarian aid. The inhabitants of a small mountain village await them.  \n\nChallenge Day\n2004\, Napoleon Helmis\, 10 min\, English subtitles\nToday is Challenge Day. This means everybody must do sport. It is a competition between a city in Romania and one in Japan.
URL:https://americanromanianfestival.org/event/award-winning-short-films-film-screenings-qa/
LOCATION:Helmut Stern Auditorium\, University of Michigan Museum of Art (UMMA)\,  525 South State Street\, Ann Arbor\, 48109\, United States
CATEGORIES:2010 American Romanian Festival,2010 Film Series,American Romanian Festival Events
END:VEVENT
BEGIN:VEVENT
DTSTART;TZID=America/Detroit:20100918T160000
DTEND;TZID=America/Detroit:20100918T180000
DTSTAMP:20260423T205353
CREATED:20140801T163407Z
LAST-MODIFIED:20181128T175956Z
UID:431-1284825600-1284832800@americanromanianfestival.org
SUMMARY:Sequences: Film Screening\, Q&A
DESCRIPTION:Saturday\, September 18\, 2010\, 4 p.m.\nHelmut Stern Auditorium\n525 South State Street\, Ann Arbor 48109 \nFree Admission\n\nPlease join American Romanian Festival Executive Director Marian Tanau and Ramona Uritescu-Lombard\, film scholar and Lecturer in the German and Comparative Literature departments at the University of Michigan\, for a discussion before the film at 7:00 p.m. and Q&A after the film. \n\nFilm Screening\nSequences\nSecvente\, 1982\, Alexandru Tatos\, 98 min\, NR\, English subtitles \nIn this interesting drama\, three sequences which could have formed separate stories are linked together to give a larger perspective on the nature of reality and film. The three episodes are joined together by one film crew at work on two different jobs. In the beginning\, the crew is introduced as they juggle their dual roles as State-supported propagandists who laud their government and society\, and as private movie-makers working on their own film. Next\, they are in a restaurant looking for suitable locations to film when the eatery’s owner\, through no fault of his own\, is induced to wax long and lugubriously on his miserable life. In the last segment\, two extras are in the background of a scene\, sitting at a table in a restaurant. It slowly becomes apparent to one of them that the man he’s sitting with tortured him more than 40 years ago at a Nazi concentration camp during World War II.
URL:https://americanromanianfestival.org/event/sequences-film-screening-qa/
LOCATION:Helmut Stern Auditorium\, University of Michigan Museum of Art (UMMA)\,  525 South State Street\, Ann Arbor\, 48109\, United States
CATEGORIES:2010 American Romanian Festival,2010 Film Series,American Romanian Festival Events
END:VEVENT
BEGIN:VEVENT
DTSTART;TZID=America/Detroit:20100917T190000
DTEND;TZID=America/Detroit:20100917T210000
DTSTAMP:20260423T205353
CREATED:20140801T163021Z
LAST-MODIFIED:20181128T175956Z
UID:430-1284750000-1284757200@americanromanianfestival.org
SUMMARY:California Dreamin’: Film Screening\, Q&A
DESCRIPTION:Friday\, September 17\, 2010\, 7:15 p.m.\, Pre-screening Talk\, 7:00 p.m.\nHelmut Stern Auditorium\n525 South State Street\, Ann Arbor 48109 \nFree Admission\n\nPlease join American Romanian Festival Executive Director Marian Tanau and Ramona Uritescu-Lombard\, film scholar and Lecturer in the German and Comparative Literature departments at the University of Michigan\, for a discussion before the film at 7:00 p.m. and Q&A after the film. \n\nFilm Screening\nCalifornia Dreamin’\nNesfârsit\, 2007\, Cristian Nemescu\, Cannes\, Un Certain Regard\, 155 min\, R \, English subtitles. \nCalifornia Dreamin’ was Cristian Nemescus last film before his death in a car accident\, California Dreamin’\, winner of the prestigious Cannes award for Un Certain Regard in 2007\, film is based on a true story: a NATO train transporting military equipment is stopped in the middle of nowhere by an overzealous chief of a Romanian train station. Set against the backdrop of the 1999 NATO bombing of Yugoslavia\, the film explores with humor and gritty realism the impact that the arrival of the American soldiers led by Captain Jones has on the small village community. A cinematic tour de force not to be missed!
URL:https://americanromanianfestival.org/event/california-dreamin-film-screening-qa/
LOCATION:Helmut Stern Auditorium\, University of Michigan Museum of Art (UMMA)\,  525 South State Street\, Ann Arbor\, 48109\, United States
CATEGORIES:2010 American Romanian Festival,2010 Film Series,American Romanian Festival Events
END:VEVENT
END:VCALENDAR