BEGIN:VCALENDAR
VERSION:2.0
PRODID:-//American Romanian Festival - ECPv6.15.20//NONSGML v1.0//EN
CALSCALE:GREGORIAN
METHOD:PUBLISH
X-ORIGINAL-URL:https://americanromanianfestival.org
X-WR-CALDESC:Events for American Romanian Festival
REFRESH-INTERVAL;VALUE=DURATION:PT1H
X-Robots-Tag:noindex
X-PUBLISHED-TTL:PT1H
BEGIN:VTIMEZONE
TZID:America/Detroit
BEGIN:DAYLIGHT
TZOFFSETFROM:-0500
TZOFFSETTO:-0400
TZNAME:EDT
DTSTART:20100314T070000
END:DAYLIGHT
BEGIN:STANDARD
TZOFFSETFROM:-0400
TZOFFSETTO:-0500
TZNAME:EST
DTSTART:20101107T060000
END:STANDARD
BEGIN:DAYLIGHT
TZOFFSETFROM:-0500
TZOFFSETTO:-0400
TZNAME:EDT
DTSTART:20110313T070000
END:DAYLIGHT
BEGIN:STANDARD
TZOFFSETFROM:-0400
TZOFFSETTO:-0500
TZNAME:EST
DTSTART:20111106T060000
END:STANDARD
BEGIN:DAYLIGHT
TZOFFSETFROM:-0500
TZOFFSETTO:-0400
TZNAME:EDT
DTSTART:20120311T070000
END:DAYLIGHT
BEGIN:STANDARD
TZOFFSETFROM:-0400
TZOFFSETTO:-0500
TZNAME:EST
DTSTART:20121104T060000
END:STANDARD
END:VTIMEZONE
BEGIN:VEVENT
DTSTART;TZID=America/Detroit:20111118T200000
DTEND;TZID=America/Detroit:20111118T220000
DTSTAMP:20260423T191013
CREATED:20140802T084301Z
LAST-MODIFIED:20181128T175952Z
UID:499-1321646400-1321653600@americanromanianfestival.org
SUMMARY:Enescu Series November 2011 Concert
DESCRIPTION:Friday\, November 18\, 2011\, 8:00 p.m.\nLady Star of the Sea Church\n467 Fairford\, Grosse Pointe\, MI  \n$20 Admission\n\nArtists\nKarl Pituch\, horn\nMarian Tănău\, violin\nSteve Wogaman\, piano \n\nConcert Program\nTimothy Jackson\nEtude – Don’t Make It Bad for Solo Horn	 \nCiprian Porumbescu (1853–1883)\nBallade for Violin and Piano	 \nGerard Schwarz (b.1947)\nTrio for Horn\, Violin and Piano (2010)\nSonata\nRecitative and Aria\nScherzo \n– INTERMISSION –\nJohannes Brahms (1833-1897)\nTrio for Piano\, Violin\, and Horn\, Op. 40 (1865)\nAndante\nScherzo: Allegro\nAdagio mesto\nFinale: Allegro con brio \n\nSponsors\nGold Level\nNATIONAL ENDOWMENT FOR THE ARTS\nMICHIGAN COUNCIL FOR ARTS AND CULTURAL AFFAIRS\nANONYMOUS ROMANIAN FRIEND                     \nMĂRĂŞEŞTI SOCIETY     \nSCHOOLCRAFT COLLEGE         \nWAYNE STATE UNIVERSITY\nDEPARTMENT OF MUSIC                         \nWALBRIDGE AND\nJOHN & TERRY RAKOLTA JR.     \n                      \nSilver Level\nUNIVERSITY OF MICHIGAN\nMUSEUM OF ART\nROMANIAN FILM CENTER \nBronze Level  \nSILVIU AND GELA PALA\nCHARLES AND CAROL SLATER                         \nLIANA TATOS\nJOYCE AND TED FLANAGAN\nWine Castle and Nick Ioannou \nFriends Circle \nCenter for Russian and East\nEurpean Studies\, U of M                                                                     \nIuliana Niculescu                                  \nCristina Muresan and Rabah Hadjit                                                \nDan and Laura Zetu                                                      \nNadia Gamaneci                                 \nLinda Joy and Brad Carol             \nBarbara and Paul Burakoff             \nJennifer Jue                         \nShoshana Mandel   \nSupporter Circle\nCosmin Dascalu                                \nVlad Tudorache  \nRazvan Pala                                                                 \nOctavian and Janice Arps Prundeanu\nHenry and Vicki Swain\nElla Gheorghiu
URL:https://americanromanianfestival.org/event/enescu-series/
LOCATION:Lady Star of the Sea Church\, 467 Fairford\, Grosse Pointe\, MI\, United States
CATEGORIES:2011 American Romanian Festival,2011 Concert Series,American Romanian Festival Events
ATTACH;FMTTYPE=image/jpeg:https://americanromanianfestival.org/wp-content/uploads/2014/08/nov18-top.jpg
END:VEVENT
BEGIN:VEVENT
DTSTART;TZID=America/Detroit:20111111T200000
DTEND;TZID=America/Detroit:20111111T220000
DTSTAMP:20260423T191013
CREATED:20140802T081354Z
LAST-MODIFIED:20181128T175953Z
UID:476-1321041600-1321048800@americanromanianfestival.org
SUMMARY:Choral Concert
DESCRIPTION:Friday\, November 11\, 2011\, 8:00 p.m.\nKirk in the Hills\n1340 West Long Lake Road\, Bloomfield Hills\, MI \n$20 Admission\n\nArtists\nVocal Arts Ensemble of Ann Arbor\nBen Cohen\, conductor\nAnné-Marie Condacse\, soprano \n\nRonald Perera (1941)\nWhy I Wake Early\nSettings of Eight Poems of Mary Oliver	 \n– INTERMISSION –\nSelections of Romanian Choral Works and Carols\nfrom the following composers	 \n\nIoan D. Chirescu\nTeofil Coste\nFelicia Donceanu\nSabin Drăgoi\nTudor Flondor\nTudor Jarda\nLaura Ana Mânzat\nLungu Nicolae\nAlexandru Paşcanu\nMarin Trache\nNicolae Ursu\nIon Vidu
URL:https://americanromanianfestival.org/event/choral-concert/
LOCATION:Kirk in the Hills\, 1340 West Long Lake Road\, Bloomfield Hills\, MI\, United States
CATEGORIES:2011 American Romanian Festival,2011 Concert Series,American Romanian Festival Events
ATTACH;FMTTYPE=image/jpeg:https://americanromanianfestival.org/wp-content/uploads/2014/08/nov11-top.jpg
END:VEVENT
BEGIN:VEVENT
DTSTART;TZID=America/Detroit:20111106T150000
DTEND;TZID=America/Detroit:20111106T170000
DTSTAMP:20260423T191013
CREATED:20140802T080859Z
LAST-MODIFIED:20181128T175953Z
UID:475-1320591600-1320598800@americanromanianfestival.org
SUMMARY:Works for Violin & Piano Concert
DESCRIPTION:Sunday\, November 6\, 2011\, 3:00 p.m.\nSchaver Recital Hall\, Old Main\, Wayne State University\n4841 Cass Avenue\, Detroit\, MI	 \nFree Admission\n\nArtists\nMarian Tănău\, violin\nRobert Conway piano \n\nBéla Bartók (1881—1945)\nRhapsody Nr. 1 for Violin and Piano\nPrima Parte\, Moderato\nSeconda Parte\, Allegretto moderato \nFelicia Donceanu (1931)\nSonata in d minor for Violin and Piano\nModerato\nLarghetto\nAnimato \nGeorge Enescu (1881—1955)\nSonata for Violin and Piano Nr. 3 op. 25 in a minor\nModerato malinconico\nAndante sostenuto e misterioso\nAllegro con brio\, ma non troppo mosso
URL:https://americanromanianfestival.org/event/works-for-violin-piano-concert/
LOCATION:Schaver Recital Hall\, Wayne State University\, 480 W Hancock St\, Detroit\, MI\, 48201\, United States
CATEGORIES:2011 American Romanian Festival,2011 Concert Series,American Romanian Festival Events
END:VEVENT
BEGIN:VEVENT
DTSTART;TZID=America/Detroit:20111029T170000
DTEND;TZID=America/Detroit:20111029T220000
DTSTAMP:20260423T191013
CREATED:20140802T080329Z
LAST-MODIFIED:20181128T175954Z
UID:473-1319907600-1319925600@americanromanianfestival.org
SUMMARY:An Evening of Romanian Food & Music with Visiting Romanian Pianist Daniel Goiți
DESCRIPTION:Friday\, October 29\, 2011\, 5:30 p.m.\, Dinner\, 8:00 p.m. Concert\nVisTaTech Presentation Room\, Schoolcraft College\n18600 Haggerty\, Livonia\, MI \n$90 Admission: includes food\, wine\, and admission to the concert\n$20 Admission: Concert only \n\nArtists\nDaniel Goiți\, piano \n\nConcert Program\nSigismund Toduță (1908—1991)\nPassacaglia						 \nMarțian Negrea (1893—1973)\nNocturne						 \nGeorge Enescu (1881—1955)\nSuite nr. 2 selections\nToccata\nSarabanda  \nGeorge Enescu\nSuite nr. 3 selections\nMelodie\nBurlesque\nCarillon Nocturne  \nPaul Constantinescu (1909—1963)\nSong\nDobrogean Dance
URL:https://americanromanianfestival.org/event/an-evening-of-romanian-food-music-with-visiting-romanian-pianist-daniel-goiti/
LOCATION:VisTaTech\, Schoolcraft College\, 18600 Haggerty Rd\, Livonia\, MI\, 48152\, United States
CATEGORIES:2011 American Romanian Festival,2011 Concert Series,American Romanian Festival Events
ATTACH;FMTTYPE=image/jpeg:https://americanromanianfestival.org/wp-content/uploads/2014/08/food+music.jpg
END:VEVENT
BEGIN:VEVENT
DTSTART;TZID=America/Detroit:20111028T200000
DTEND;TZID=America/Detroit:20111028T220000
DTSTAMP:20260423T191013
CREATED:20140802T093342Z
LAST-MODIFIED:20181128T175954Z
UID:512-1319832000-1319839200@americanromanianfestival.org
SUMMARY:Enescu Series October 2011 Concert
DESCRIPTION:Friday\, October 28\, 2011\, 8:00 p.m.\nLady Star of the Sea Church\n467 Fairford\, Grosse Pointe\, MI \n$20 Admission\n\nArtists\nDaniel Goiți\, visiting Romanian pianist\nMarian Tănău\, violin\nAmanda Gates Armstrong\, violin\nJim VanValkenburg\, viola\nÚna O’Riordan\, cello \n\nConcert Program\nGeorge Enescu (1881-1955)\nSuite nr. 3 selections\nMelodie\nBurlesque\nCarillon Nocturne  \nGeorge Enescu\nSuite nr. 2 selections\nToccata\nSarabanda \nPaul Constantinescu (1909-1963)\nSong	 \nPaul Constantinescu\nDobrogean Dance\nDaniel Goiți\, piano \n– INTERMISSION –\nJohannes Brahms (1833-1897)\nPiano Quintet op.34 in F minor\nAllegro non troppo\nAndante\, un poco adagio\nScherzo: Allegro\nFinale: Poco sostenuto – Allegro non troppo – Presto\, non troppo  \nMarian Tănău\, violin • Amanda Gates Armstrong\, violin\nJim VanValkenburg\, viola • Úna O’Riordan\, cello\nDaniel Goiți\, piano
URL:https://americanromanianfestival.org/event/enescu-series-october-2011-concert/
LOCATION:Lady Star of the Sea Church\, 467 Fairford\, Grosse Pointe\, MI\, United States
CATEGORIES:2011 American Romanian Festival,2011 Concert Series,American Romanian Festival Events
ATTACH;FMTTYPE=image/jpeg:https://americanromanianfestival.org/wp-content/uploads/2014/08/oct28-top.jpg
END:VEVENT
BEGIN:VEVENT
DTSTART;TZID=America/Detroit:20111027T193000
DTEND;TZID=America/Detroit:20111027T213000
DTSTAMP:20260423T191013
CREATED:20140802T075809Z
LAST-MODIFIED:20181128T175954Z
UID:472-1319743800-1319751000@americanromanianfestival.org
SUMMARY:Piano Recital with Visiting Romanian Pianist Daniel Goiți
DESCRIPTION:Thursday\, October 27\, 2011\, 7:30 p.m.\nSchaver Recital Hall\, Old Main\, Wayne State University\n4841 Cass Avenue\, Detroit\, MI \nFree Admission\n\nArtists\nDaniel Goiți\, piano \n\nConcert Program\nLudwig van Beethoven (1770—1827)\nSonata op 10 nr 3 in D Major\nPresto  \nLargo e Maesto\nMenuetto: Allegro\nRondo: Allegro                  			  \nAlexander Scriabin (1872—1915)\nSonata nr 2 in g sharp minor\nAndante\nPresto  \nGeorge Enescu (1881—1955)\nSuite nr. 2 selections\nToccata\nSarabanda  \nFranz Liszt (1811—1886)\nMephisto Vals  \nSigismund Toduță (1908—1991)\nPassacaglia 						 \nPaul Constantinescu (1909—1963)\nSong\nDobrogean Dance
URL:https://americanromanianfestival.org/event/piano-recital-with-visiting-romanian-pianist-daniel-goiti-2/
LOCATION:Schaver Recital Hall\, Wayne State University\, 480 W Hancock St\, Detroit\, MI\, 48201\, United States
CATEGORIES:2011 American Romanian Festival,2011 Concert Series,American Romanian Festival Events
END:VEVENT
BEGIN:VEVENT
DTSTART;TZID=America/Detroit:20111026T120000
DTEND;TZID=America/Detroit:20111026T140000
DTSTAMP:20260423T191013
CREATED:20140802T075158Z
LAST-MODIFIED:20181128T175954Z
UID:469-1319630400-1319637600@americanromanianfestival.org
SUMMARY:Piano Recital with Visiting Romanian Pianist Daniel Goiți
DESCRIPTION:Wedneday\, October 26\, 2011\, 12:00 p.m.\nVisTaTech Presentation Room\, Schoolcraft College\n18600 Haggerty\, Livonia\, MI \nFree Admission\n\nArtists\nDaniel Goiți\, piano \n\nConcert Program\nLudwig van Beethoven (1770—1827)\nSonata op 10 nr 3 in D Major\nPresto  \nLargo e Maesto\nMenuetto: Allegro\nRondo: Allegro                  			  \nAlexander Scriabin (1872—1915)\nSonata nr 2 in g sharp minor\nAndante\nPresto  \nGeorge Enescu (1881—1955)\nSuite nr. 2 selections\nToccata\nSarabanda  \nFranz Liszt (1811—1886)\nMephisto Vals
URL:https://americanromanianfestival.org/event/piano-recital-with-visiting-romanian-pianist-daniel-goiti/
LOCATION:VisTaTech\, Schoolcraft College\, 18600 Haggerty Rd\, Livonia\, MI\, 48152\, United States
CATEGORIES:2011 American Romanian Festival,2011 Concert Series,American Romanian Festival Events
END:VEVENT
BEGIN:VEVENT
DTSTART;TZID=America/Detroit:20111007T193000
DTEND;TZID=America/Detroit:20111007T213000
DTSTAMP:20260423T191013
CREATED:20140802T074622Z
LAST-MODIFIED:20181128T175954Z
UID:468-1318015800-1318023000@americanromanianfestival.org
SUMMARY:Rogalski\, Țăranu\, Crumb Concert
DESCRIPTION:Friday\, October 7\, 2011\, 7:30 p.m.\nSchaver Recital Hall\, Old Main\, Wayne State University\n4841 Cass Avenue\, Detroit\, MI \nFree Admission\n\nArtists \nCornel Țăranu\, piano + visiting composer\nLaurence Liberson\, clarinet\nJennifer Goltz\,  soprano\nLogan Skelton\, piano\nMarian Tănău\, violin\nLaura Roelofs\, violin\nJim VanValkenburg\, viola\nJudith Vander Weg\, cello\nRobert Conway piano \n\nArtists\nCornel Țăranu\, piano + visiting composer\nLaurence Liberson\, clarinet\nJennifer Goltz\,  soprano\nLogan Skelton\, piano\nMarian Tănău\, violin\nLaura Roelofs\, violin\nJim VanValkenburg\, viola\nJudith Vander Weg\, cello\nRobert Conway piano  \n\nConcert Program\nTheodor Rogalski (1901—1954)\nString Quartet\nModerato\, con moto\nAllegretto con moto\nINTRODUZIONE poco andante\nMarian Tănău\, violin • Laura Roelofs\, violin                                         \nJim VanValkenburg\, viola• Judith Vander Weg\, cello \nCornel Țăranu (1934)\nMozaics\nModerato\nModerato\nAssez lent\nRubato\nLaurence Liberson\, clarinet • Robert Conway piano • Marian Tănău\, violin\nLaura Roelofs\, violin • Jim VanValkenburg\, viola • Judith Vander Weg\, cello \n– INTERMISSION –\nGeorge Crumb (1929)\nBlack Angels String Quartet\nI. Departure\n1. THRENODY I: Night of the Electric Insect\,\n2. Sounds of Bones and Flutes\n3. Lost Bells\n4. Devil-music\n5. Danse Macabre (Duo alternativo: Dies Irae)\nII. Absence\n6. Pavan Lachrymae (Der Tod und das Mädchen)\n7. THRENODY II: BALCK ANGELS!\n8. Sarabanda de la Muerte Oscura (Solo obligato: Insect Sounds)\n9. Lost Bells (Echo) (Duo alaternativo: Sounds of bones and flutes)\nIII. Return\n10. [Solo: Aria accompagnata] God-music\n11. Ancient Voices\n12. Ancient Voices (Echo)\n13. THRENODY III: Night of the Electric Insects\nMarian Tănău\, violin • Laura Roelofs\, violin\nJim VanValkenburg\, viola • Judith Vander Weg\, cello \n\nThis concert is sponsored by Michigan Arts Council and Cultural Affairs\, the National Endowment for the Arts\, and Wayne State University Department of Music.
URL:https://americanromanianfestival.org/event/rogalski-taranu-crumb-concert/
LOCATION:Schaver Recital Hall\, Wayne State University\, 480 W Hancock St\, Detroit\, MI\, 48201\, United States
CATEGORIES:2011 American Romanian Festival,2011 Concert Series,American Romanian Festival Events
END:VEVENT
BEGIN:VEVENT
DTSTART;TZID=America/Detroit:20110925T160000
DTEND;TZID=America/Detroit:20110925T180000
DTSTAMP:20260423T191013
CREATED:20140802T071726Z
LAST-MODIFIED:20181128T175955Z
UID:466-1316966400-1316973600@americanromanianfestival.org
SUMMARY:Compositions by Crumb & Țăranu Concert
DESCRIPTION:Sunday\, September 25\, 2011\, 4:00 p.m.\nKerrytown Concert House\n415 N. 4th Avenue\, Ann Arbor\, MI \n$25 Assigned Rows 1-2 $15 Assigned Rows 3-5 $10 General Admission $5 Student \n\nThis concert will open the 2011-2012 American Romanian Festival concert season. Visiting Romanian Composer Cornel Țăranu will participate in the performance of his work. University of Michigan Piano Professor and American Romanian Festival Artistic Director Logan Skelton will hold a short talk about George Crumb and the works to be performed.  \n\nArtists\nCornel Țăranu\, piano + visiting composer\nLaurence Liberson\, clarinet\nJennifer Goltz\,  soprano\nLogan Skelton\, piano\nMarian Tănău\, violin\nLaura Roelofs\, violin\nJim VanValkenburg\, viola\nJudith Vander Weg\, cello\nRobert Conway piano  \n\nConcert Program\nGeorge Crumb\nApparition (1929)\nJennifer Goltz\,  soprano • Logan Skelton\, piano	 \nCornel ȚăranuBlues from Siciliana Blues (Red Apples Movie)(1934)\nCornel Țăranu\, piano \nCornel Țăranu\nMosaiques\nModerato\nModerato\nAssez lent\nRubato \nLaurence Liberson\, clarinet • Robert Conway piano • Marian Tănău\, violin\nLaura Roelofs\, violin • Jim VanValkenburg\, viola • Judith Vander Weg\, cello \n– INTERMISSION –\nGeorge Crumb\nBlack Angels String Quartet\nI. Departure\n1. THRENODY I: Night of the Electric Insect\,\n2. Sounds of Bones and Flutes\n3. Lost Bells\n4. Devil-music\n5. Danse Macabre (Duo alternativo: Dies Irae) \nII. Absence\n6. Pavan Lachrymae (Der Tod und das Mädchen)\n7. THRENODY II: BALCK ANGELS!\n8. Sarabanda de la Muerte Oscura (Solo obligato: Insect Sounds)\n9. Lost Bells (Echo) (Duo alaternativo: Sounds of bones and flutes) \nIII. Return\n10. [Solo: Aria accompagnata] God-music\n11. Ancient Voices\n12. Ancient Voices (Echo)\n13. THRENODY III: Night of the Electric Insects \nMarian Tănău\, violin • Laura Roelofs\, violin\nJim VanValkenburg\, viola • Judith Vander Weg\, cello \n\nThis concert is sponsored by Michigan Arts Council and Cultural Affairs\, the National Endowment for the Arts\, Wayne State University Department of Music\, and the Mărășești Society.
URL:https://americanromanianfestival.org/event/compositions-by-crumb-and-taranu-concert/
LOCATION:Kerrytown Concert House\,  415 N 4th Ave\, Ann Arbor\, MI\, 48104\, United States
CATEGORIES:2011 American Romanian Festival,2011 Concert Series,American Romanian Festival Events
END:VEVENT
END:VCALENDAR