BEGIN:VCALENDAR
VERSION:2.0
PRODID:-//American Romanian Festival - ECPv6.15.20//NONSGML v1.0//EN
CALSCALE:GREGORIAN
METHOD:PUBLISH
X-WR-CALNAME:American Romanian Festival
X-ORIGINAL-URL:https://americanromanianfestival.org
X-WR-CALDESC:Events for American Romanian Festival
REFRESH-INTERVAL;VALUE=DURATION:PT1H
X-Robots-Tag:noindex
X-PUBLISHED-TTL:PT1H
BEGIN:VTIMEZONE
TZID:America/Detroit
BEGIN:DAYLIGHT
TZOFFSETFROM:-0500
TZOFFSETTO:-0400
TZNAME:EDT
DTSTART:20100314T070000
END:DAYLIGHT
BEGIN:STANDARD
TZOFFSETFROM:-0400
TZOFFSETTO:-0500
TZNAME:EST
DTSTART:20101107T060000
END:STANDARD
BEGIN:DAYLIGHT
TZOFFSETFROM:-0500
TZOFFSETTO:-0400
TZNAME:EDT
DTSTART:20110313T070000
END:DAYLIGHT
BEGIN:STANDARD
TZOFFSETFROM:-0400
TZOFFSETTO:-0500
TZNAME:EST
DTSTART:20111106T060000
END:STANDARD
BEGIN:DAYLIGHT
TZOFFSETFROM:-0500
TZOFFSETTO:-0400
TZNAME:EDT
DTSTART:20120311T070000
END:DAYLIGHT
BEGIN:STANDARD
TZOFFSETFROM:-0400
TZOFFSETTO:-0500
TZNAME:EST
DTSTART:20121104T060000
END:STANDARD
END:VTIMEZONE
BEGIN:VEVENT
DTSTART;TZID=America/Detroit:20110924T193000
DTEND;TZID=America/Detroit:20110924T213000
DTSTAMP:20260423T190927
CREATED:20140802T070956Z
LAST-MODIFIED:20181128T175955Z
UID:465-1316892600-1316899800@americanromanianfestival.org
SUMMARY:Award-Winning Shorts
DESCRIPTION:Saturday\, September 24\, 2011\, 7:30 p.m.\nUniversity of Michigan Museum of Art (UMMA)\, Helmut Stern Auditorium\n525 South State Street\, Ann Arbor\, MI 48109 \nFree Admission\n\nFilm Screenings\nAward-Winning Shorts\nThe Box Lesson\nLectia de box\, 2007 Alexandru Mavrodineanu\, English Subtitles\, 11:45 min \nbric brac\nbric brac\, 2008\, Gabriel Achim\, English subtitles\, 15 min \nDerby\nDerby\, 2011\, Paul Negoescu\, nominated for EFA award 2011\, English subtitles\, 15 min \nCaviar\nIcre Negre\, 2011\, Razvan Savescu\, English subtitles\, 18 min \nLord\nLord\, 2009\, Adrian Sitaru\, Golden Bear Berlin 2010\, English subtitles\, 20 min \nThe Cage\nColivia\, 2011\, Adrian Sitaru\, Golden Bear Berlin 2010\, English Subtitles\, 17 min  \n\nThe 2011 Romanian Film Series is sponsored by Michigan Arts Council and Cultural Affairs\, the National Endowment for the Arts\, the University of Michigan Museum of Art\, the Mărășești Society and the Romanian National Film Center.
URL:https://americanromanianfestival.org/event/award-winning-shorts/
LOCATION:Helmut Stern Auditorium\, University of Michigan Museum of Art (UMMA)\,  525 South State Street\, Ann Arbor\, 48109\, United States
CATEGORIES:2011 American Romanian Festival,2011 Film Series,American Romanian Festival Events
END:VEVENT
BEGIN:VEVENT
DTSTART;TZID=America/Detroit:20110917T193000
DTEND;TZID=America/Detroit:20110917T213000
DTSTAMP:20260423T190927
CREATED:20140802T070355Z
LAST-MODIFIED:20181128T175955Z
UID:463-1316287800-1316295000@americanromanianfestival.org
SUMMARY:Wedding in Bessarabia: Film Screening
DESCRIPTION:Saturday\, September 17\, 2011\, 7:30 p.m.\nUniversity of Michigan Museum of Art (UMMA)\, Helmut Stern Auditorium\n525 South State Street\, Ann Arbor\, MI 48109 \nFree Admission\n\nFilm Screening\nWedding in Bessarabia\nNunta in Basarabia\, 2011\, Nap Toader\, English subtitles\, 92 min \nHoping to find an easier way to make a living\, the train is taking two newlyweds – a conductor from Bucharest and his wife\, a pianist – from the hard life of Romania to the girl’s homeland of Moldova\, where the wedding will be held. The wedding not only reunited her with her family but also allows the couple the chance to receive presents and cash that they desperately need to start their new life together. In the midst of political debate\, social complexities and economic hardships\, what emerges is a portrait of a community that celebrates joie de vivre and humanity. The film holds on to its optimism while it delights artistically in the socio-political complexities of a region that has known its share of sorrows.  \n\nThe 2011 Romanian Film Series is sponsored by Michigan Arts Council and Cultural Affairs\, the National Endowment for the Arts\, the University of Michigan Museum of Art\, the Mărășești Society and the Romanian National Film Center.
URL:https://americanromanianfestival.org/event/wedding-in-bessarabia-film-screening/
CATEGORIES:2011 American Romanian Festival,2011 Film Series,American Romanian Festival Events
END:VEVENT
BEGIN:VEVENT
DTSTART;TZID=America/Detroit:20110917T153000
DTEND;TZID=America/Detroit:20110917T173000
DTSTAMP:20260423T190927
CREATED:20140802T070049Z
LAST-MODIFIED:20181128T175955Z
UID:460-1316273400-1316280600@americanromanianfestival.org
SUMMARY:Crossing Dates: Film Screening
DESCRIPTION:Saturday\, September 17\, 2011\, 3:30 p.m.\nUniversity of Michigan Museum of Art (UMMA)\, Helmut Stern Auditorium\n525 South State Street\, Ann Arbor\, MI 48109 \nFree Admission\n\nFilm Screening\nCrossing Dates\nIntilniri Incrucisate\, 2009\, Anca Damian\, English subtitles\, 100 min \nEach day of our lives brings us new encounters with one another: our paths cross\, we see each other\, and we speak or don’t speak to each other. Both chance and intention play a part in these encounters\, and the consequences can remain like footprints on the paths of our lives. Crossing Dates mixes three separate stories that take place over two days. The characters’ paths intersect\, and they affect each other unintentionally. The three stories are united not only by the characters but also by re-readings of the same theme in different registers. \n\nThe 2011 Romanian Film Series is sponsored by Michigan Arts Council and Cultural Affairs\, the National Endowment for the Arts\, the University of Michigan Museum of Art\, the Mărășești Society and the Romanian National Film Center.
URL:https://americanromanianfestival.org/event/crossing-dates-film-screening/
LOCATION:Helmut Stern Auditorium\, University of Michigan Museum of Art (UMMA)\,  525 South State Street\, Ann Arbor\, 48109\, United States
CATEGORIES:2011 American Romanian Festival,2011 Film Series,American Romanian Festival Events
END:VEVENT
END:VCALENDAR