BEGIN:VCALENDAR
VERSION:2.0
PRODID:-//American Romanian Festival - ECPv6.15.20//NONSGML v1.0//EN
CALSCALE:GREGORIAN
METHOD:PUBLISH
X-ORIGINAL-URL:https://americanromanianfestival.org
X-WR-CALDESC:Events for American Romanian Festival
REFRESH-INTERVAL;VALUE=DURATION:PT1H
X-Robots-Tag:noindex
X-PUBLISHED-TTL:PT1H
BEGIN:VTIMEZONE
TZID:America/Detroit
BEGIN:DAYLIGHT
TZOFFSETFROM:-0500
TZOFFSETTO:-0400
TZNAME:EDT
DTSTART:20120311T070000
END:DAYLIGHT
BEGIN:STANDARD
TZOFFSETFROM:-0400
TZOFFSETTO:-0500
TZNAME:EST
DTSTART:20121104T060000
END:STANDARD
BEGIN:DAYLIGHT
TZOFFSETFROM:-0500
TZOFFSETTO:-0400
TZNAME:EDT
DTSTART:20130310T070000
END:DAYLIGHT
BEGIN:STANDARD
TZOFFSETFROM:-0400
TZOFFSETTO:-0500
TZNAME:EST
DTSTART:20131103T060000
END:STANDARD
BEGIN:DAYLIGHT
TZOFFSETFROM:-0500
TZOFFSETTO:-0400
TZNAME:EDT
DTSTART:20140309T070000
END:DAYLIGHT
BEGIN:STANDARD
TZOFFSETFROM:-0400
TZOFFSETTO:-0500
TZNAME:EST
DTSTART:20141102T060000
END:STANDARD
END:VTIMEZONE
BEGIN:VEVENT
DTSTART;TZID=America/Detroit:20131110T150000
DTEND;TZID=America/Detroit:20131110T170000
DTSTAMP:20260423T190635
CREATED:20140724T031146Z
LAST-MODIFIED:20181128T175946Z
UID:96-1384095600-1384102800@americanromanianfestival.org
SUMMARY:Anderson\, Hartway\, Enescu & More Concert
DESCRIPTION:Sunday\, November 10\, 2013\, 3:00 p.m.\nSchaver Recital Hall\, Old Main\, Wayne State University\nDetroit\, MI 48201 \nFree Admission\n\nArtists\nMarian Tanau\, violin\nJudith Vander Weg\, cello\nRobert Conway piano\nMark V. Flegg\, trumpet \n\nConcert Program\nJon Anderson\n“Cascade” Piano Trio\nI.  A steep usually small fall of water; esp : one of a series\nII.  A: Something arranged in a series or in a succession of stages so that each stage derives from or acts upon the product of the preceding. B: a fall of material (as lace) that hangs in a zigzag line\nIII.  Something falling or rushing forth in quantity \nJames Hartway\nCity Scketches\nI. Assembly Line\nII. Holy Cathedral\nIII. Marble Fountain\nIV. Abandoned House\nV. Festival Weekend \nGeorge Enescu\nImpromptu concertant \nGeorge Enescu\nLégende \n\nSponsor\nSponsored in part by Wayne State University Department of Music.
URL:https://americanromanianfestival.org/event/anderson-hartway-enescu-more-concert/
LOCATION:Schaver Recital Hall\, Wayne State University\, 480 W Hancock St\, Detroit\, MI\, 48201\, United States
CATEGORIES:2013 American Romanian Festival,2013 Concert Series,American Romanian Festival Events
END:VEVENT
BEGIN:VEVENT
DTSTART;TZID=America/Detroit:20131108T114500
DTEND;TZID=America/Detroit:20131108T134500
DTSTAMP:20260423T190635
CREATED:20140726T014804Z
LAST-MODIFIED:20181128T175946Z
UID:258-1383911100-1383918300@americanromanianfestival.org
SUMMARY:Anderson & Hartway Concert
DESCRIPTION:Friday\, November 8\, 2013\, 11:45 a.m.\nSchaver Recital Hall\, Old Main\, Wayne State University\nDetroit\, MI 48201 \nFree Admission\n\nArtists\nMarian Tanau\, violin\nJudith Vander Weg\, cello\nRobert Conway piano\n \n\nConcert Program\nJon Anderson\n“Cascade” Piano Trio\nI.  A steep usually small fall of water; esp : one of a series\nII.  A: Something arranged in a series or in a succession of stages so that each stage derives from or acts upon the product of the preceding. B: a fall of material (as lace) that hangs in a zigzag line\nIII.  Something falling or rushing forth in quantity \nJames Hartway\nCity Scketches\nI. Assembly Line\nII. Holy Cathedral\nIII. Marble Fountain\nIV. Abandoned House\nV. Festival Weekend \n\nSponsor\nSponsored in part by Wayne State University Department of Music.
URL:https://americanromanianfestival.org/event/anderson-hartway-concert/
LOCATION:MI
CATEGORIES:2013 American Romanian Festival,2013 Concert Series,American Romanian Festival Events
END:VEVENT
BEGIN:VEVENT
DTSTART;TZID=America/Detroit:20131027T170000
DTEND;TZID=America/Detroit:20131027T190000
DTSTAMP:20260423T190635
CREATED:20140725T164148Z
LAST-MODIFIED:20181128T175946Z
UID:254-1382893200-1382900400@americanromanianfestival.org
SUMMARY:Beyond the Hills (Dupa Dealuri): Film Screening
DESCRIPTION:Sunday\, October\, 27\, 2013\, 5:00 p.m.\nHelmut Stern Auditorium\, University of Michigan Museum of Art (UMMA)\n525 South State Street\, Ann Arbor\, MI 48109 \nFree Admission\n  \n\nScreening\nBeyond the Hills\nDupa Dealuri\, 2012\, Cristian Mungiu\, English Subtitles\, 101 min \nBeyond the Hills is the third feature from Romanian director Cristian Mungiu\, and his first since winning the Palme d’Or at Cannes in 2007 for 4 Months\, 3 Weeks & 2 Days.  Alina and Voichita are two young women in their mid-twenties. Old friends who grew up together in an orphanage\, they reunite over a weekend. Alina has come back to Romania from Germany and wants Voichita to return with her. But Voichita is reluctant to leave the monastery where she lives with a dozen other women and a lone priest believing she’s found a cure for crippling loneliness\, God. \n  \n\n			\n		\n				\n					\n				\n					\n					Beyond the Hills (Dupa Dealuri): Film Screening\n					\n				\n					\n				\n					\n					Beyond the Hills (Dupa Dealuri): Film Screening\n					\n				\n					\n				\n					\n					Beyond the Hills (Dupa Dealuri): Film Screening
URL:https://americanromanianfestival.org/event/beyond-the-hills-dupa-dealuri-film-screening/
LOCATION:Helmut Stern Auditorium\, University of Michigan Museum of Art (UMMA)\,  525 South State Street\, Ann Arbor\, 48109\, United States
CATEGORIES:2013 American Romanian Festival,2013 sponsors,American Romanian Festival Events
END:VEVENT
BEGIN:VEVENT
DTSTART;TZID=America/Detroit:20131027T150000
DTEND;TZID=America/Detroit:20131027T170000
DTSTAMP:20260423T190635
CREATED:20140725T164410Z
LAST-MODIFIED:20181128T175946Z
UID:255-1382886000-1382893200@americanromanianfestival.org
SUMMARY:Summer Holiday (Boogie): Film Screening
DESCRIPTION:Sunday\, October\, 27\, 2013\, 3:00 p.m.\nHelmut Stern Auditorium\, University of Michigan Museum of Art (UMMA)\n525 South State Street\, Ann Arbor\, MI 48109 \nFree Admission\n\nScreening\nSummer Holiday\nBoogie\, 2008\, Radu Muntean\, English Subtitles\, 102 min \nOn his spring break at the seaside with his wife and four-year-old son\, Bogdan Ciocazanu runs into his best friends from high school at the precise date and time that reminds all of them of their most glorious drinking trips and sexual escapades of their younger days. Frustrated that between his job and his family\, time is no longer his to manage and play with\, Boogie now takes his shock dosage of freedom and spends a night to tick off all the items on the map of his youth (drinking\, games\, flirting\, prostitutes). In the morning\, after the disillusionment of the remake he experiences with his former friends\, he returns to his wife.
URL:https://americanromanianfestival.org/event/summer-holiday-boogie-film-screening/
LOCATION:Helmut Stern Auditorium\, University of Michigan Museum of Art (UMMA)\,  525 South State Street\, Ann Arbor\, 48109\, United States
CATEGORIES:2013 American Romanian Festival,2013 sponsors,American Romanian Festival Events
ATTACH;FMTTYPE=image/jpeg:https://americanromanianfestival.org/wp-content/uploads/2014/07/boogie.jpg
END:VEVENT
BEGIN:VEVENT
DTSTART;TZID=America/Detroit:20131027T130000
DTEND;TZID=America/Detroit:20131027T150000
DTSTAMP:20260423T190635
CREATED:20140726T013937Z
LAST-MODIFIED:20181128T175946Z
UID:256-1382878800-1382886000@americanromanianfestival.org
SUMMARY:Morgen (Morgen): Film Screening\, Q&A
DESCRIPTION:Sunday\, October 27\, 2013\, 1:00 p.m.\nHelmut Stern Auditorium\, University of Michigan Museum of Art (UMMA)\n525 South State Street\, Ann Arbor\, MI 48109 \nFree Admission\n  \n\nScreening\nMorgen\nMorgen\, 2010\, Marian Crisan\, English Subtitles\, 100 min \nQ&A with Ramona Uritescu-Lombard \nNelu\, a man in his forties\, works as a security guard at a supermarket in Salonta\, a small town on the Romanian-Hungarian border. This is the place where many illegal emigrants try to cross\, by any means possible\, to Hungary and then further to Western Europe. One morning\, Nelu will fish something different out of the river: a Turkish man trying to cross the border. Not able to communicate verbally\, the two men will somehow understand each other. Nelu takes the stranger to the farmhouse\, gives him some dry clothes\, food and shelter. He doesn’t really know how to help this stranger. The Turkish man gives Nelu all the money he has on him so he will help him cross the border. Eventually\, Nelu takes the money and promises he will help him cross the border tomorrow\, “Morgen.”
URL:https://americanromanianfestival.org/event/morgen-morgen-film-screening-qa/
LOCATION:Helmut Stern Auditorium\, University of Michigan Museum of Art (UMMA)\,  525 South State Street\, Ann Arbor\, 48109\, United States
CATEGORIES:2013 American Romanian Festival,2013 sponsors,American Romanian Festival Events
ATTACH;FMTTYPE=image/jpeg:https://americanromanianfestival.org/wp-content/uploads/2014/07/morgen.jpg
END:VEVENT
BEGIN:VEVENT
DTSTART;TZID=America/Detroit:20131020T180000
DTEND;TZID=America/Detroit:20131020T200000
DTSTAMP:20260423T190635
CREATED:20140725T163410Z
LAST-MODIFIED:20181128T175946Z
UID:241-1382292000-1382299200@americanromanianfestival.org
SUMMARY:Loverboy (Loverboy): Film Screening\, Q&A
DESCRIPTION:Sunday\, October\, 20\, 2013\, 6:00 p.m.\nHelmut Stern Auditorium\, University of Michigan Museum of Art (UMMA)\n525 South State Street\, Ann Arbor\, MI 48109 \nFree Admission\n  \n\nScreening\nLoverboy \nLoverboy\, 2011\, Catalin Mitulescu\, English Subtitles\, 99 min\n \nQ&A with Ramona Uritescu-Lombard and Marian Tanau \nThe victims of an economic system where money is scarce\, but temptations to spend it lurk around every corner\, Luca and his friends\, all of them small time hoods with nothing to do\, are providing girls for pimps who sell them abroad for prostitution. To Luca’s surprise\, while still pretending to be a tough guy who rejects any notion of an emotional attachment\, he suddenly finds himself strangely affected by one of the girls\, who almost threatens to change his life around and turn him into a regular guy. \n 
URL:https://americanromanianfestival.org/event/loverboy-loverboy-film-screening-qa/
LOCATION:Helmut Stern Auditorium\, University of Michigan Museum of Art (UMMA)\,  525 South State Street\, Ann Arbor\, 48109\, United States
CATEGORIES:2013 American Romanian Festival,2013 sponsors,American Romanian Festival Events
ATTACH;FMTTYPE=image/jpeg:https://americanromanianfestival.org/wp-content/uploads/2014/07/loverboy-1.jpg
END:VEVENT
BEGIN:VEVENT
DTSTART;TZID=America/Detroit:20131020T160000
DTEND;TZID=America/Detroit:20131020T180000
DTSTAMP:20260423T190635
CREATED:20140726T014229Z
LAST-MODIFIED:20181128T175947Z
UID:257-1382284800-1382292000@americanromanianfestival.org
SUMMARY:The Way I Spent the End of the World (Cum mi-am petrecut sfarsitul lumii): Film Screening\, Q&A
DESCRIPTION:Sunday\, October\, 20\, 2013\, 4:00 p.m.\nHelmut Stern Auditorium\, University of Michigan Museum of Art (UMMA)\n525 South State Street\, Ann Arbor\, MI 48109 \nFree Admission\n  \n\nScreening\nThe Way I Spent the End of the World \nCum mi-am petrecut sfarsitul lumii\, 2006\, Catalin Mitulescu\, English Subtitles\, 106 min \nQ&A with Ramona Uritescu-Lombard \nBucharest 1989 — the last year of Ceausescu’s dictatorship. Eva lives with her parents and her 7-year-old brother\, Lalalilu. One day at school\, Eva and her boyfriend accidentally break a bust of Ceausescu. They are forced to confess their crime before a disciplinary committee and Eva is expelled from school and transferred to a reformatory establishment. There she meets Andrei\, and decides to escape Romania with him. Lalalilu becomes convinced that Ceausescu is the main reason for Eva’s decision to leave. So with his friends from school he devises a plan to kill the dictator.
URL:https://americanromanianfestival.org/event/the-way-i-spent-the-end-of-the-world-cum-mi-am-petrecut-sfarsitul-lumii-film-screening-qa/
LOCATION:Helmut Stern Auditorium\, University of Michigan Museum of Art (UMMA)\,  525 South State Street\, Ann Arbor\, 48109\, United States
CATEGORIES:2013 American Romanian Festival,2013 sponsors,American Romanian Festival Events
ATTACH;FMTTYPE=image/jpeg:https://americanromanianfestival.org/wp-content/uploads/2014/07/the-way-i-spent-the-end-of-the-world.jpg
END:VEVENT
BEGIN:VEVENT
DTSTART;TZID=America/Detroit:20131020T020000
DTEND;TZID=America/Detroit:20131020T160000
DTSTAMP:20260423T190635
CREATED:20140724T071752Z
LAST-MODIFIED:20181128T175947Z
UID:160-1382234400-1382284800@americanromanianfestival.org
SUMMARY:Reconstruction (Reconstituirea): Film Screening\, Q&A
DESCRIPTION:Sunday\, October\, 20\, 2013\, 2:00 p.m.\nHelmut Stern Auditorium\, University of Michigan Museum of Art (UMMA)\n525 South State Street\, Ann Arbor\, MI 48109 \nFree Admission\n\nScreening\nReconstruction\nReconstituirea\, 1968\, Lucian Pintilie\, English Subtitles\, 100 min \nQ&A with Ramona Uritescu-Lombard \nA prosecutor\, policemen\, and teacher bring the students Vuica and Nicu to a restaurant to re-enact their drunken brawl there\, and have it filmed to show the effects of alcoholism. Both Horia Pătraşcu’s novel and the screenplay (co-authored by Pătraşcu and Pintilie) are closely based on real-life events. The incident was witnessed by Pătraşcu during the early 1960s\, and took place in his native town of Caransebeş\, shortly before a celebration of August 23 (Communist Romania’s national holiday\, commemorating the 1944 coup).The militiamen involved had detained two youths with no prior criminal record\, accusing them of having been drunk and disorderly\, and had decided to make them reenact the scene in order to educate the public about the perils of alcohol. In a 1999 interview\, Pătraşcu acknowledges that\, as a university student and part-time activist at a local culture house\, he was a member of the original crew.
URL:https://americanromanianfestival.org/event/reconstruction-reconstituirea-film-screening-qa/
LOCATION:Helmut Stern Auditorium\, University of Michigan Museum of Art (UMMA)\,  525 South State Street\, Ann Arbor\, 48109\, United States
CATEGORIES:2013 American Romanian Festival,2013 sponsors,American Romanian Festival Events
ATTACH;FMTTYPE=image/jpeg:https://americanromanianfestival.org/wp-content/uploads/2014/07/films6.jpg
END:VEVENT
BEGIN:VEVENT
DTSTART;TZID=America/Detroit:20131018T160000
DTEND;TZID=America/Detroit:20131018T180000
DTSTAMP:20260423T190635
CREATED:20140725T080821Z
LAST-MODIFIED:20181128T175947Z
UID:224-1382112000-1382119200@americanromanianfestival.org
SUMMARY:The World According to Ion B. (Lumea vazuta de Ion B.): Film Screening\, Q&A
DESCRIPTION:Friday\, October 18\, 2013\, 4:00 p.m.\n1636 International Institute\, University of Michigan\n1080 South University Avenue\, Ann Arbor\, MI 48109\nFree Admission \n  \n\nSpecial Documentary Film Screening\nThe World According to Ion B\nLumea vazuta de Ion B\, 2009\, Alexandru Nanau\, Documentary\, English Subtitles\, 60 min \nQ&A \nThe film follows in real life the dream of any man living on the streets: to one day become famous and leave behind a life of poverty\, misery and humiliation. Ion Barladeanu is on his way to becoming an important contemporary artist\, but in May 2008 he was still an anonymous tramp on the streets of Bucharest. \n  \n\n			\n		\n				\n					\n				\n					\n					The World According to Ion B. (Lumea vazuta de Ion B.): Film Screening\, Q&A\n					\n				\n					\n				\n					\n					The World According to Ion B. (Lumea vazuta de Ion B.): Film Screening\, Q&A\n					\n				\n					\n				\n					\n					The World According to Ion B. (Lumea vazuta de Ion B.): Film Screening\, Q&A
URL:https://americanromanianfestival.org/event/the-world-according-to-ion-b-lumea-vazuta-de-ion-b-film-screening-qa/
LOCATION:1636 International Institute/SSWB\, 1080 S. University\, Ann Arbor\, MI\, 48109\, United States
CATEGORIES:2013 American Romanian Festival,2013 sponsors,American Romanian Festival Events
ATTACH;FMTTYPE=image/jpeg:https://americanromanianfestival.org/wp-content/uploads/2014/07/the-world-according-to-ion.jpg
END:VEVENT
BEGIN:VEVENT
DTSTART;TZID=America/Detroit:20131003T193000
DTEND;TZID=America/Detroit:20131003T203000
DTSTAMP:20260423T190635
CREATED:20140726T015206Z
LAST-MODIFIED:20181128T175947Z
UID:259-1380828600-1380832200@americanromanianfestival.org
SUMMARY:Ravel & Enescu Concert
DESCRIPTION:Thursday\, October 3\, 2013\, 7:30 p.m.\nSchaver Recital Hall\, Old Main\, Wayne State University\nDetroit\, MI 48201 \nFree Admission\n\nArtists\nRachel Harding Klaus\, violin\nMarian Tanau\, violin\nJames Van Valkenburg\, viola\nDavid LeDoux\, cello\nDaniel Goiti\, piano \n\nConcert Program\nMaurice Ravel\nString Quartet\nAllegro Moderato\nAssez vif – Très rythmé\nTrès lent\nVif et agité \nGeorge Enescu\nPiano Quintet\nCon moto molto moderato\nAndante sostenuto e cantabile\nVivace\, ma non troppo\nA tempo\, un poco piu animato \n\nSponsor\nSponsored in part by Wayne State University Department of Music.
URL:https://americanromanianfestival.org/event/ravel-enescu-concert/
LOCATION:Schaver Recital Hall\, Wayne State University\, 480 W Hancock St\, Detroit\, MI\, 48201\, United States
CATEGORIES:2013 American Romanian Festival,2013 Concert Series,American Romanian Festival Events
END:VEVENT
BEGIN:VEVENT
DTSTART;TZID=America/Detroit:20130928T210000
DTEND;TZID=America/Detroit:20130928T230000
DTSTAMP:20260423T190635
CREATED:20140726T040405Z
LAST-MODIFIED:20181128T175947Z
UID:286-1380402000-1380409200@americanromanianfestival.org
SUMMARY:Beethoven\, Enescu & Constantinescu Concert
DESCRIPTION:Saturday\, September 28\, 2013\, 9:00 p.m.\nVista Tech Presentation Room\, Schoolcraft College\n18600 Haggerty Road\, Livonia\, MI 48152\n \nTickets $20\, Students $10\n\nArtists\nDaniel Goiti \n\nConcert Program\nLudwig van Beethoven\nPiano Sonata No. 14 in c-sharp minor\, op. 27\, “Moonlight” Sonata \nGeorge Enescu\nSuite No. 1\, op. 3\nPrelude\nAdagio \nGeorge Enescu\nSuite No. 2\, op. 10\nToccata\nPavane \nGeorge Enescu\nSuite No. 3\, op. 18\nBurlesque \nPaul Constantinescu\n“Joc Dobrogean” (Dance from “Dobrogea”) \n\nPurchase Tickets\n\n \nGA $20.00 USD\nStudents $10.00 USD \n\n\n\n\nSponsor\nSponsored in part by Schoolcraft College.
URL:https://americanromanianfestival.org/event/beethoven-enescu-constantinescu-concert-2/
LOCATION:VisTaTech\, Schoolcraft College\, 18600 Haggerty Rd\, Livonia\, MI\, 48152\, United States
CATEGORIES:2013 American Romanian Festival,2013 sponsors,American Romanian Festival Events
END:VEVENT
BEGIN:VEVENT
DTSTART;TZID=America/Detroit:20130928T180000
DTEND;TZID=America/Detroit:20130928T223000
DTSTAMP:20260423T190635
CREATED:20140725T081826Z
LAST-MODIFIED:20181128T175947Z
UID:228-1380391200-1380407400@americanromanianfestival.org
SUMMARY:Dinner & Concert: Romanian Food & Music featuring Romanian pianist Daniel Goiți
DESCRIPTION:Saturday\, September 28\, 2013\n6:00 p.m.\, Dinner: American Harvest Restaurant\n9:00 p.m.\, Concert: Vista Tech Presentation Room\nSchoolcraft College\n18600 Haggerty Road\, Livonia\, MI 48152\n \n$100 Dinner & Concert ($70 tax-deductible)\n$20 Concert Only\n\nDinner\nAuthentic Romanian cuisine will be offered in a small plate format\, permitting guests to sample a number of dishes at Schoolcraft College’s American Harvest Restaurant. \nConcert\nFollowing a dinner of wonderful Romanian food cooked by the Master Chefs at the American Harvest Restaurant\, join us in recital featuring works by Beethoven\, Enescu and Constantinescu. To music lovers who enjoy attending the chamber music concerts and recitals at Schoolcraft College\, savor again passionate and imaginative music with the Romanian piano virtuoso Daniel Goiți. \n\nArtists\nDaniel Goiți \n\nLudwig van Beethoven\nPiano Sonata No. 14 in c-sharp minor\, op. 27\, “Moonlight Sonata” \nGeorge Enescu\nSuite No. 1\, op. 3\nPrelude\nAdagio \nGeorge Enescu\nSuite No. 2\, op. 10\nToccata\nPavane \nGeorge Enescu\nSuite No. 3\, op. 18\nBurlesque \nPaul Constantinescu\n“Joc Dobrogean” (Dance from “Dobrogea”) \n\n\nSponsor\nSponsored in part by Schoolcraft College.
URL:https://americanromanianfestival.org/event/dinner-concert-romanian-food-music-featuring-romanian-pianist-daniel-goiti/
LOCATION:VisTaTech\, Schoolcraft College\, 18600 Haggerty Rd\, Livonia\, MI\, 48152\, United States
CATEGORIES:2013 American Romanian Festival,2013 Concert Series,American Romanian Festival Events
ATTACH;FMTTYPE=image/jpeg:https://americanromanianfestival.org/wp-content/uploads/2014/07/daniel-goiti.jpg
END:VEVENT
BEGIN:VEVENT
DTSTART;TZID=America/Detroit:20130927T114500
DTEND;TZID=America/Detroit:20130927T134500
DTSTAMP:20260423T190635
CREATED:20140726T040236Z
LAST-MODIFIED:20181128T175947Z
UID:285-1380282300-1380289500@americanromanianfestival.org
SUMMARY:Beethoven\, Rachmaninoff\, Enescu & Constantinescu Concert
DESCRIPTION:Friday\, September 27\, 2013\, 11:45 a.m.\nSchaver Recital Hall\, Old Main\, Wayne State University\n480 W Hancock St\, Detroit\, MI 48201 \nFree Admission\n\nArtists\nDaniel Goiti\, piano \n\nConcert Program\nLudwig van Beethoven\nPiano Sonata No. 14 in c-sharp minor\, op. 27\, “Moonlight” Sonata \nSergei Rachmaninoff\nRomance in f-sharp minor \nSergei Rachmaninoff\nEtude op. 33\, No. 2 in C Major \nGeorge Enescu\nSuite No. 2\, op. 10\nToccata\nPavane \nGeorge Enescu\nSuite No. 3\, op. 18\nBurlesque \nPaul Constantinescu\n“Joc Dobrogean” (Dance from “Dobrogea”) \n\nSponsor\nSponsored in part by Wayne State University Department of Music.
URL:https://americanromanianfestival.org/event/beethoven-rachmaninoff-enescu-constantinescu-concert/
LOCATION:Schaver Recital Hall\, Wayne State University\, 480 W Hancock St\, Detroit\, MI\, 48201\, United States
CATEGORIES:2013 American Romanian Festival,2013 Concert Series,American Romanian Festival Events
END:VEVENT
BEGIN:VEVENT
DTSTART;TZID=America/Detroit:20130925T120000
DTEND;TZID=America/Detroit:20130925T140000
DTSTAMP:20260423T190635
CREATED:20140726T040040Z
LAST-MODIFIED:20181128T175948Z
UID:284-1380110400-1380117600@americanromanianfestival.org
SUMMARY:Liszt\, Rachmaninoff\, Enescu & Constantinescu Concert
DESCRIPTION:Wednesday\, September 25\, 2013\, 12:00 p.m.\nVista Tech Presentation Room\, Schoolcraft College\n18600 Haggerty Road\, Livonia\, MI 48152\n \nFree Admission\n\nArtists\nDaniel Goiti\, piano \n\nConcert Program\nFranz Liszt\n“Vallée D’Obermann” from Première année: Suisse\, Suite No. 1\nLiebesträume\, No. 3 \nSergei Rachmaninoff\nRomance in F sharp minor\nEtude op. 33\, No. 2 in C Major\nEtude op. 39\, No. 2 in a minor\nEtude op. 39\, No 5 in e-flat minor \nGeorge Enescu\nToccata from Suite No. 2\nBurlesque from Suite No. 3 \nPaul Constantinescu\n“Joc Dobrogean” (Dance from “Dobrogea”) \n\nSponsor\nSponsored in part by Schoolcraft College.
URL:https://americanromanianfestival.org/event/liszt-rachmaninoff-enescu-constantinescu-concert/
LOCATION:VisTaTech\, Schoolcraft College\, 18600 Haggerty Rd\, Livonia\, MI\, 48152\, United States
CATEGORIES:2013 American Romanian Festival,2013 Concert Series,American Romanian Festival Events
END:VEVENT
END:VCALENDAR