BEGIN:VCALENDAR
VERSION:2.0
PRODID:-//American Romanian Festival - ECPv6.15.20//NONSGML v1.0//EN
CALSCALE:GREGORIAN
METHOD:PUBLISH
X-ORIGINAL-URL:https://americanromanianfestival.org
X-WR-CALDESC:Events for American Romanian Festival
REFRESH-INTERVAL;VALUE=DURATION:PT1H
X-Robots-Tag:noindex
X-PUBLISHED-TTL:PT1H
BEGIN:VTIMEZONE
TZID:America/Detroit
BEGIN:DAYLIGHT
TZOFFSETFROM:-0500
TZOFFSETTO:-0400
TZNAME:EDT
DTSTART:20130310T070000
END:DAYLIGHT
BEGIN:STANDARD
TZOFFSETFROM:-0400
TZOFFSETTO:-0500
TZNAME:EST
DTSTART:20131103T060000
END:STANDARD
BEGIN:DAYLIGHT
TZOFFSETFROM:-0500
TZOFFSETTO:-0400
TZNAME:EDT
DTSTART:20140309T070000
END:DAYLIGHT
BEGIN:STANDARD
TZOFFSETFROM:-0400
TZOFFSETTO:-0500
TZNAME:EST
DTSTART:20141102T060000
END:STANDARD
BEGIN:DAYLIGHT
TZOFFSETFROM:-0500
TZOFFSETTO:-0400
TZNAME:EDT
DTSTART:20150308T070000
END:DAYLIGHT
BEGIN:STANDARD
TZOFFSETFROM:-0400
TZOFFSETTO:-0500
TZNAME:EST
DTSTART:20151101T060000
END:STANDARD
END:VTIMEZONE
BEGIN:VEVENT
DTSTART;TZID=America/Detroit:20141019T150000
DTEND;TZID=America/Detroit:20141019T170000
DTSTAMP:20260423T191014
CREATED:20140911T031010Z
LAST-MODIFIED:20181128T175945Z
UID:748-1413730800-1413738000@americanromanianfestival.org
SUMMARY:Chamber Concert at Wayne State University: Ligeti\, Ochoa\, Piazzolla & Mellits
DESCRIPTION:Sunday\, October 19\, 2014\, 3:00 p.m.\nSchaver Recital Hall\, Wayne State University\n480 W Hancock St\, Detroit\, MI 48201 \nFree Admission\n\n \nArtists\nLászló Benedek\, violin\nMarian Tanau\, violin\nHang Su\, viola\nDavid LeDoux\, cello\nRobert Conway\, piano \n\nConcert Program\nGyörgy Ligeti (1923–2006)\nString Quartet No. 1\, “Métamorphoses nocturnes”\nAllegro grazioso\nVivace\, capriccioso\nA tempo\nAdagio\, mesto\nPresto – Prestissimo\nMolto sostenuto – Andante tranquillo\nPiù mosso\nTempo di Valse\, moderato\, con eleganza\, un poco capriccioso\nSubito prestissimo\nSubito: molto sostenuto\nAllegretto\, un poco gioviale\nAllarg. Poco più mosso\nSubito allegro con moto\, string. poco a poco sin al prestissimo\nPrestissimo\nAllegro comodo\, gioviale\nSostenuto\, accelerando – Ad libitum\, senza misura\nLento \nArmando Guevara Ochoa (1926–2013)\nPeruvian Skapes\nI. Cuzco\nII. Vilcanota\nYarawi and Wayno \n  \n– INTERMISSION –\n  \nCornel Taranu (b. 1934)\nSonata Ostinato \nÁstor Piazzolla  (1921–1992)\nCuatro Estaciones Porteñas (The Four Seasons of Buenos Aires)\nI. Verano Porteño (Buenos Aires Summer) \nMarc Mellits (b. 1966)\nString Quartet No. 2\, “Revolution”\nI. Groove Canon\nII. Mara’s Toys\nIII. December 1989\nIV. Groove Machine \n\nSponsors\n[dt_logos columns=”4″ dividers=”true” number=”12″ orderby=”date” order=”desc” animation=”none” category=”2014-sponsors”]
URL:https://americanromanianfestival.org/event/ligeti-ochoa-piazzolla-mellits-concert/
LOCATION:Schaver Recital Hall\, Wayne State University\, 480 W Hancock St\, Detroit\, MI\, 48201\, United States
CATEGORIES:2014 American Romanian Festival,2014 Concert Series,American Romanian Festival Events
ATTACH;FMTTYPE=image/jpeg:https://americanromanianfestival.org/wp-content/uploads/2014/07/2014-chamber-concert-artists3.jpg
END:VEVENT
BEGIN:VEVENT
DTSTART;TZID=America/Detroit:20141017T193000
DTEND;TZID=America/Detroit:20141017T213000
DTSTAMP:20260423T191014
CREATED:20140911T035946Z
LAST-MODIFIED:20181128T175945Z
UID:754-1413574200-1413581400@americanromanianfestival.org
SUMMARY:László Benedek Recital at Wayne State University
DESCRIPTION:Friday\, October 17\, 2014\, 7:30 p.m.\nSchaver Recital Hall\, Wayne State University\n480 W Hancock St\, Detroit\, MI 48201 \nFree Admission\n\nArtists\nLászló Benedek\, violin\nRobert Conway\, piano \n\nConcert Program\nJohannes Brahms (1833–1897)\nScherzo in c minor (from F-A-E Sonata)\nIII. Allegro \nAntonín Dvořák (1841–1904) (arr. Kreisler)\nSlavonic Dance No. 1 in g minor\, Op. 46\, No. 2 \nPablo de Sarasate (1844–1908)\nRomanza Andaluza (Spanish Dance No. 3)\, Op. 22\, No. 1 \nManuel de Falla (1876–1946) (arr. Kohansky)\n“Danza ritual del fuego” (“Ritual Fire Dance”) from El amor brujo \nCelso Garrido-Lecca (b. 1926)\nDanzas populares andinas (Peruvian Dances from the Andes)\nI. Alegre\nII. Ritmico\nIII. Andante\nIV. Alegre \nArmando Guevara Ochoa (1926–2013)\nDanza Criolla \nCiprian Porumbescu (1853–1883)\nBallade \nConstantin Dumitrescu (1847–1928)\nDans ţănănesc for cello and piano\, Op.15 \nIon Scărlătescu (1872–1922)\nBagatelle \n\nSponsors\n[dt_logos columns=”4″ dividers=”true” number=”12″ orderby=”date” order=”desc” animation=”none” category=”2014-sponsors”]
URL:https://americanromanianfestival.org/event/laszlo-benedek-recital/
LOCATION:Schaver Recital Hall\, Wayne State University\, 480 W Hancock St\, Detroit\, MI\, 48201\, United States
CATEGORIES:2014 American Romanian Festival,2014 Concert Series,American Romanian Festival Events
ATTACH;FMTTYPE=image/jpeg:https://americanromanianfestival.org/wp-content/uploads/2014/09/laszlo-benedek-web.jpg
END:VEVENT
BEGIN:VEVENT
DTSTART;TZID=America/Detroit:20141014T190000
DTEND;TZID=America/Detroit:20141014T210000
DTSTAMP:20260423T191014
CREATED:20140911T033317Z
LAST-MODIFIED:20181128T175945Z
UID:750-1413313200-1413320400@americanromanianfestival.org
SUMMARY:Chamber Concert at Macomb County Community College: Ligeti\, Porumbescu\, Ochoa & Mellits
DESCRIPTION:Tuesday\, October 14\, 2014\, 7:00 p.m.\nLorenzo Center\, Macomb County Community College Campus\n44575 Garfield Rd\, Clinton Twp\, MI 48038 \n$15 adults $10 students \n\n \nArtists\nLászló Benedek\, violin\nMarian Tanau\, violin\nHang Su\, viola\nDavid LeDoux\, cello \n\nConcert Program\nGyörgy Ligeti (1923–2006)\nString Quartet No. 1\, “Métamorphoses nocturnes”\nAllegro grazioso\nVivace\, capriccioso\nA tempo\nAdagio\, mesto\nPresto – Prestissimo\nMolto sostenuto – Andante tranquillo\nPiù mosso\nTempo di Valse\, moderato\, con eleganza\, un poco capriccioso\nSubito prestissimo\nSubito: molto sostenuto\nAllegretto\, un poco gioviale\nAllarg. Poco più mosso\nSubito allegro con moto\, string. poco a poco sin al prestissimo\nPrestissimo\nAllegro comodo\, gioviale\nSostenuto\, accelerando – Ad libitum\, senza misura\nLento \nCiprian Porumbescu (1853–1883)\nBallade \n  \n– INTERMISSION –\n  \nArmando Guevara Ochoa (1926–2013)\nPeruvian Skapes\nI. Cuzco\nII. Vilcanota\nIII. Yaraví\nIV. Huayno \nMarc Mellits (b. 1966)\nString Quartet No. 2\, “Revolution”\nI. Groove Canon\nII. Mara’s Toys\nIII. December 1989\nIV. Groove Machine \n\nSponsors\n[dt_logos columns=”4″ dividers=”true” number=”12″ orderby=”date” order=”desc” animation=”none” category=”2014-sponsors”]
URL:https://americanromanianfestival.org/event/ligeti-porumbescu-ochoa-mellits-concert/
LOCATION:Lorenzo Center\, Macomb County Community College Campus\, 44575 Garfield Rd\, Clinton Twp\, MI\, 48038\, United States
CATEGORIES:2014 American Romanian Festival,2014 Concert Series,American Romanian Festival Events
ATTACH;FMTTYPE=image/jpeg:https://americanromanianfestival.org/wp-content/uploads/2014/09/hang-su-web.jpg
END:VEVENT
BEGIN:VEVENT
DTSTART;TZID=America/Detroit:20141012T190000
DTEND;TZID=America/Detroit:20141012T210000
DTSTAMP:20260423T191014
CREATED:20140911T034405Z
LAST-MODIFIED:20181128T175945Z
UID:753-1413140400-1413147600@americanromanianfestival.org
SUMMARY:Chamber Concert at Kerrytown Concert Hall: Ligeti\, Garrido-Lecca\, Piazzolla & Mellits
DESCRIPTION:Sunday\, October 12\, 2014\, 7:00 p.m.\nKerrytown Concert Hall\n415 N 4th Ave\, Ann Arbor\, MI 48104 \n$15 adults $10 students \n\n \nArtists\nLászló Benedek\, violin\nMarian Tanau\, violin\nHang Su\, viola\nDavid LeDoux\, cello\nRobert Conway\, piano \n\nConcert Program\nGyörgy Ligeti (1923–2006)\nString Quartet No. 1\, “Métamorphoses nocturnes”\nAllegro grazioso\nVivace\, capriccioso\nA tempo\nAdagio\, mesto\nPresto – Prestissimo\nMolto sostenuto – Andante tranquillo\nPiù mosso\nTempo di Valse\, moderato\, con eleganza\, un poco capriccioso\nSubito prestissimo\nSubito: molto sostenuto\nAllegretto\, un poco gioviale\nAllarg. Poco più mosso\nSubito allegro con moto\, string. poco a poco sin al prestissimo\nPrestissimo\nAllegro comodo\, gioviale\nSostenuto\, accelerando – Ad libitum\, senza misura\nLento \nCelso Garrido-Lecca (b. 1926)\nDanzas populares andinas (Peruvian Dances from the Andes)\nI. Alegre\nII. Ritmico\nIII. Andante\nIV. Alegre \n  \n– INTERMISSION –\n  \nÁstor Piazzolla  (1921–1992)\nCuatro Estaciones Porteñas (The Four Seasons of Buenos Aires)\nI. Verano Porteño (Buenos Aires Summer) \nMarc Mellits (b. 1966)\nString Quartet No. 2\, “Revolution”\nI. Groove Canon\nII. Mara’s Toys\nIII. December 1989\nIV. Groove Machine \n\nSponsors\n[dt_logos columns=”4″ dividers=”true” number=”12″ orderby=”date” order=”desc” animation=”none” category=”2014-sponsors”]
URL:https://americanromanianfestival.org/event/ligeti-garrido-lecca-piazzolla-mellits-concert/
LOCATION:Kerrytown Concert House\,  415 N 4th Ave\, Ann Arbor\, MI\, 48104\, United States
CATEGORIES:2014 American Romanian Festival,2014 Concert Series,American Romanian Festival Events
ATTACH;FMTTYPE=image/jpeg:https://americanromanianfestival.org/wp-content/uploads/2014/07/2014-chamber-concert-artists2.jpg
END:VEVENT
END:VCALENDAR