BEGIN:VCALENDAR
VERSION:2.0
PRODID:-//American Romanian Festival - ECPv6.15.20//NONSGML v1.0//EN
CALSCALE:GREGORIAN
METHOD:PUBLISH
X-WR-CALNAME:American Romanian Festival
X-ORIGINAL-URL:https://americanromanianfestival.org
X-WR-CALDESC:Events for American Romanian Festival
REFRESH-INTERVAL;VALUE=DURATION:PT1H
X-Robots-Tag:noindex
X-PUBLISHED-TTL:PT1H
BEGIN:VTIMEZONE
TZID:America/Detroit
BEGIN:DAYLIGHT
TZOFFSETFROM:-0500
TZOFFSETTO:-0400
TZNAME:EDT
DTSTART:20130310T070000
END:DAYLIGHT
BEGIN:STANDARD
TZOFFSETFROM:-0400
TZOFFSETTO:-0500
TZNAME:EST
DTSTART:20131103T060000
END:STANDARD
BEGIN:DAYLIGHT
TZOFFSETFROM:-0500
TZOFFSETTO:-0400
TZNAME:EDT
DTSTART:20140309T070000
END:DAYLIGHT
BEGIN:STANDARD
TZOFFSETFROM:-0400
TZOFFSETTO:-0500
TZNAME:EST
DTSTART:20141102T060000
END:STANDARD
BEGIN:DAYLIGHT
TZOFFSETFROM:-0500
TZOFFSETTO:-0400
TZNAME:EDT
DTSTART:20150308T070000
END:DAYLIGHT
BEGIN:STANDARD
TZOFFSETFROM:-0400
TZOFFSETTO:-0500
TZNAME:EST
DTSTART:20151101T060000
END:STANDARD
END:VTIMEZONE
BEGIN:VEVENT
DTSTART;TZID=America/Detroit:20141017T150000
DTEND;TZID=America/Detroit:20141017T170000
DTSTAMP:20260423T190436
CREATED:20140911T024124Z
LAST-MODIFIED:20181128T175945Z
UID:745-1413558000-1413565200@americanromanianfestival.org
SUMMARY:Violin Master Class with László Benedek at Wayne State University
DESCRIPTION:Friday\, October 17\, 2014\, 3:00 p.m.\nSchaver Recital Hall\, Old Main\, Wayne State University\nDetroit\, MI 48201 \nFree Admission\n\nArtists\nLászló Benedek\, violin \n\nMaster Class\nVisiting American Romanian Festival violinist László Benedek will conduct a masterclass on Friday\, October 17\, 2014\, 3:00 p.m. at Wayne State University’s Shaver Music Recital Hall. The Master Class is open to violin students from Wayne State University. “László Benedek is a graduate of the Liceul de Muzica of Cluj-Napoca\, Romania\, and later of Bowling Green State University\, Ohio\, where he obtained his Master’s degree in music. He continued studies as an Artist Diploma student at the University of Cincinnati College-Conservatory of Music where he studied with Kurt Sassmannshaus\, Piotr Milewski\, Peter Oundjian\, and Henry Meyer. \nIn May of 1995\, Mr. Benedek won the James Paul Kennedy Award at the Music Department of Bowling Green State University. One year later\, he won First Prize at the annual Starling Competition at the University of Cincinnati College-Conservatory of Music\, Ohio\, where he became the concertmaster of its Philharmonic Orchestra. \nLászló Benedek resides in Lima\, Peru\, with his wife and two children and is on the faculty of the National Music Conservatory in Lima. His violin students have won over fifty prizes at national violin competitions and have been selected on more than forty occasions to perform as youth soloists with the National Symphony Orchestra in Peru. \n  \n\nSponsors\n[dt_logos columns=”4″ dividers=”true” number=”12″ orderby=”date” order=”desc” animation=”none” category=”2014-sponsors”]
URL:https://americanromanianfestival.org/event/violin-master-class-with-laszlo-benedek-at-wayne-state-university/
LOCATION:Schaver Recital Hall\, Wayne State University\, 480 W Hancock St\, Detroit\, MI\, 48201\, United States
CATEGORIES:2014 American Romanian Festival,2014 Master Class,American Romanian Festival Events
ATTACH;FMTTYPE=image/jpeg:https://americanromanianfestival.org/wp-content/uploads/2014/09/laszlo-benedek-web.jpg
END:VEVENT
END:VCALENDAR