BEGIN:VCALENDAR
VERSION:2.0
PRODID:-//American Romanian Festival - ECPv6.15.20//NONSGML v1.0//EN
CALSCALE:GREGORIAN
METHOD:PUBLISH
X-ORIGINAL-URL:https://americanromanianfestival.org
X-WR-CALDESC:Events for American Romanian Festival
REFRESH-INTERVAL;VALUE=DURATION:PT1H
X-Robots-Tag:noindex
X-PUBLISHED-TTL:PT1H
BEGIN:VTIMEZONE
TZID:America/Detroit
BEGIN:DAYLIGHT
TZOFFSETFROM:-0500
TZOFFSETTO:-0400
TZNAME:EDT
DTSTART:20140309T070000
END:DAYLIGHT
BEGIN:STANDARD
TZOFFSETFROM:-0400
TZOFFSETTO:-0500
TZNAME:EST
DTSTART:20141102T060000
END:STANDARD
BEGIN:DAYLIGHT
TZOFFSETFROM:-0500
TZOFFSETTO:-0400
TZNAME:EDT
DTSTART:20150308T070000
END:DAYLIGHT
BEGIN:STANDARD
TZOFFSETFROM:-0400
TZOFFSETTO:-0500
TZNAME:EST
DTSTART:20151101T060000
END:STANDARD
BEGIN:DAYLIGHT
TZOFFSETFROM:-0500
TZOFFSETTO:-0400
TZNAME:EDT
DTSTART:20160313T070000
END:DAYLIGHT
BEGIN:STANDARD
TZOFFSETFROM:-0400
TZOFFSETTO:-0500
TZNAME:EST
DTSTART:20161106T060000
END:STANDARD
END:VTIMEZONE
BEGIN:VEVENT
DTSTART;TZID=America/Detroit:20151024T180000
DTEND;TZID=America/Detroit:20151024T210000
DTSTAMP:20260423T191033
CREATED:20150919T154600Z
LAST-MODIFIED:20211223T003648Z
UID:940-1445709600-1445720400@americanromanianfestival.org
SUMMARY:Audience Choice: Finale Film Screening at Schoolcraft College\, October 24\, 2015
DESCRIPTION:Audience Choice: Finale Film Screening!\nFilm Screening\nSaturday\, October 24\, 2015\, 6 p.m.\nVisTaTech Kehrl Auditorium\, Schoolcraft College\, 18600 Haggerty Rd\, Livonia\, MI\n \n$10 Admission\nTickets: Reserve at the Door/Screening\nPayments Accepted: Cash\, Credit Card\, Check\nOnline: PayPal \n\n6th Annual Romanian Film Series\nThe American Romanian Festival Film Series is celebrated with a curated films screenings and lectures that explore culture through rich cinematic experiences. The 2015 American Romanian Festival marks the Festival’s 10 Year Anniversary and 6th Annual Romanian Film Series. Help celebrate the occasion by joining us at Schoolcraft College\, October 24\, 2015\, for the finale film screening. Admission tickets may be reserved at the door/screening. \n\nFilm Screening Vote Results\nThe final film screening of the 6th Annual Romanian Film Series was audience choice! The final selection\, The Happiest Girl in the World\, was announced October 19\, 2015. \nThe Happiest Girl in the World\nCea mai fericita fata din lume\, 2009\, Radu Jude\, Comedy\, English Subtitles\, 99 min\nDelia\, a young Romanian girl\, comes to Bucharest with her parents to collect a prize she has won in a contest organized by a soft-drinks company. The prize is a beautiful new car. All Delia has to do now is appear in front of the camera in a commercial. All goes well until it becomes clear that Delia and her parents have very different ideas about what to do with the new car. Meanwhile\, the contest’s sponsor needs a radiant prize-winner with a gleaming smile. A wicked satire and a psychological portrait of a society perverted by its slavery to capitalism and consumerism. \n \n\n[vc_row][vc_column width=”1/1″][vc_toggle title=”Online Ballot Results” open=”false”]Poll Results:\n\n[/vc_toggle][/vc_column][/vc_row] \n[vc_row][vc_column width=”1/1″][vc_toggle title=”Ballot Choices” open=”false”] \nFilm screening ballot choices\nThe Happiest Girl in the World\nCea mai fericita fata din lume\, 2009\, Radu Jude\, Comedy\, English Subtitles\, 99 min\nDelia\, a young Romanian girl\, comes to Bucharest with her parents to collect a prize she has won in a contest organized by a soft-drinks company. The prize is a beautiful new car. All Delia has to do now is appear in front of the camera in a commercial. All goes well until it becomes clear that Delia and her parents have very different ideas about what to do with the new car. Meanwhile\, the contest’s sponsor needs a radiant prize-winner with a gleaming smile. A wicked satire and a psychological portrait of a society perverted by its slavery to capitalism and consumerism. \n \n\nFrancesca\n2009\, Bobby Paunescu\, Drama\, English Subtitles\, 94 min\nFrancesca is a young kindergarten teacher whose dream is to immigrate to Italy. Searching for a better life\, Francesca is ready to overcome any obstacles\, even the worries and the doubtfulness of the people closest to her. The plan is that her boyfriend\, Mita\, should join her in Italy as soon as he closes the small business he runs. Things take an unfortunate turn\, painful truths come to light and priorities change. \n \n\nHooked\nPescuit sportive\, 2008\, Adrian Sitaru\, Comedy-Drama\, English Subtitles\, 84 min\nA young couple drive out into the countryside for a picnic\, run over a prostitute\, and decide to hide the body in the forest. The prostitute\, however\, is not dead\, follows them and joins them for their picnic. A complex game of manipulation follows. \n \n\nIf I Want to Whistle\, I Whistle\nEu cand vreau sa fluier\, fluier\, 2010\, Florin Serban\, Drama\, English Subtitles\, 94 min\nA young man in juvenile detention tries to prevent his seemingly selfish\, irresponsible mother from taking his young brother with her to Italy and destabilizing his life. He gambles everything\, including his very near release\, taking a young college student hostage. \n[/vc_toggle][/vc_column][/vc_row] \n\nSponsors\n[dt_logos columns=”4″ dividers=”true” number=”12″ orderby=”date” order=”desc” animation=”none” category=”2015-sponsors”]
URL:https://americanromanianfestival.org/event/audience-choice-finale-film-screening-at-schoolcraft-college-october-24-2015/
LOCATION:VisTaTech\, Schoolcraft College\, 18600 Haggerty Rd\, Livonia\, MI\, 48152\, United States
CATEGORIES:2015 American Romanian Festival,2015 Film Series,American Romanian Festival Events
ATTACH;FMTTYPE=image/jpeg:https://americanromanianfestival.org/wp-content/uploads/2015/08/romanian-film-series.jpg
END:VEVENT
BEGIN:VEVENT
DTSTART;TZID=America/Detroit:20151024T150000
DTEND;TZID=America/Detroit:20151024T180000
DTSTAMP:20260423T191033
CREATED:20150919T143132Z
LAST-MODIFIED:20181128T175944Z
UID:944-1445698800-1445709600@americanromanianfestival.org
SUMMARY:Chasing Rainbows: Film Screening\, Discussion and at Schoolcraft College\, October 24\, 2015
DESCRIPTION:Chasing Rainbows\nFilm Screening\nSaturday\, October 24\, 2015\, 3 p.m.\nVisTaTech Kehrl Auditorium\, Schoolcraft College\, 18600 Haggerty Rd\, Livonia\, MI\n \n$10 Admission\nTickets: Reserve at the Door/Screening\nPayments Accepted: Cash\, Credit Card\, Check\nOnline: PayPal \n\n6th Annual Romanian Film Series\nThe American Romanian Festival Film Series is celebrated with a curated films screenings and lectures that explore culture through rich cinematic experiences. The 2015 American Romanian Festival marks the Festival’s 10 Year Anniversary and 6th Annual Romanian Film Series. Help celebrate the occasion by joining us at Schoolcraft College\, October 24\, 2015\, for Chasing Rainbows film screening and discussion. Admission tickets may be reserved at the door/screening. \n\nFilm Screening\nChasing Rainbows \nŞi caii sunt verzi pe pereţi\, 2012\, Dan Chisu\, Comedy\, English Subtitles\, 101 min \nChasing Rainbows is a story about the illusion of becoming rich in Romania. In a country where stories of “striking it rich” are everywhere\, anyone thinks such a thing is not only possible\, but it’s easily achievable. The storyline follows two destinies: one is of a young couple that could have gotten rich\, and the other is of a man who\, because of his lack of knowledge when it comes to modern technology\, gets fooled by a spam email. \n\nDiscussion\nPlease join Ramona Uritescu-Lombard\, film scholar and Lecturer in the German and Comparative Literature departments at the University of Michigan\, for a discussion and Q&A. \n\nSponsors\n[dt_logos columns=”4″ dividers=”true” number=”12″ orderby=”date” order=”desc” animation=”none” category=”2015-sponsors”]
URL:https://americanromanianfestival.org/event/chasing-rainbows-film-screening-discussion-and-at-schoolcraft-college-october-24-2015/
LOCATION:VisTaTech\, Schoolcraft College\, 18600 Haggerty Rd\, Livonia\, MI\, 48152\, United States
CATEGORIES:2015 American Romanian Festival,2015 Film Series,American Romanian Festival Events
ATTACH;FMTTYPE=image/png:https://americanromanianfestival.org/wp-content/uploads/2015/09/romanian-film-festival-chasing-rainbows-1.png
END:VEVENT
BEGIN:VEVENT
DTSTART;TZID=America/Detroit:20151003T180000
DTEND;TZID=America/Detroit:20151003T210000
DTSTAMP:20260423T191033
CREATED:20150919T132518Z
LAST-MODIFIED:20211223T003642Z
UID:943-1443895200-1443906000@americanromanianfestival.org
SUMMARY:Self-Portrait of a Dutiful Daughter: Film Screening\, Discussion and at Schoolcraft College\, October 3\, 2015
DESCRIPTION:Self-Portrait of a Dutiful Daughter\nFilm Screening\nSaturday\, October 3\, 2015\, 3 p.m.\nVisTaTech Kehrl Auditorium\, Schoolcraft College\, 18600 Haggerty Rd\, Livonia\, MI\n \n$10 Admission\nTickets: Reserve at the Door/Screening\nPayments Accepted: Cash\, Credit Card\, Check \n\n6th Annual Romanian Film Series\nThe American Romanian Festival Film Series is celebrated with a curated films screenings and lectures that explore culture through rich cinematic experiences. The 2015 American Romanian Festival marks the Festival’s 10 Year Anniversary and 6th Annual Romanian Film Series. Help celebrate the occasion by joining us at Schoolcraft College\, October 3\, 2015\, for Self-Portrait of a Dutiful Daughter film screening and discussion. Admission tickets may be reserved at the door/screening. \n\nFilm Screening\nSelf-Portrait of a Dutiful Daughter\nAutoportretul unei fete cuminti\, 1915\, Ana Lungu\, English Subtitles\, 81 min \nCristiana is a 30-year-old woman\, brought up in a “proper\,” bourgeois middle-class family. Her time is split between writing for her PhD in Earthquake Engineering; conversations with Alex and Michelle\, her two close friends; and occasional\, eagerly awaited rendezvous with Dan\, a married man with whom she is romantically involved. After her parents move out of the family apartment into a new house\, she decides to get a dog. It is something that she wanted ever since she was a child\, and now that she lives on her own\, she can finally fulfill this wish. \n—written by Ana Lungu \n   \n\nDiscussion\nPlease join Ramona Uritescu-Lombard\, film scholar and Lecturer in the German and Comparative Literature departments at the University of Michigan\, for a discussion and Q&A. \n\nSponsors\n[dt_logos columns=”4″ dividers=”true” number=”12″ orderby=”date” order=”desc” animation=”none” category=”2015-sponsors”]
URL:https://americanromanianfestival.org/event/self-portrait-of-a-dutiful-daughter-film-screening-discussion-and-at-schoolcraft-college-october-3-2015/
LOCATION:VisTaTech\, Schoolcraft College\, 18600 Haggerty Rd\, Livonia\, MI\, 48152\, United States
CATEGORIES:2015 American Romanian Festival,2015 Film Series,American Romanian Festival Events
ATTACH;FMTTYPE=image/png:https://americanromanianfestival.org/wp-content/uploads/2015/09/romanian-film-festival-the-self-portrait-of-a-dutiful-daughter-4.png
END:VEVENT
BEGIN:VEVENT
DTSTART;TZID=America/Detroit:20151003T150000
DTEND;TZID=America/Detroit:20151003T183000
DTSTAMP:20260423T191033
CREATED:20150821T005541Z
LAST-MODIFIED:20181128T175945Z
UID:878-1443884400-1443897000@americanromanianfestival.org
SUMMARY:The Bear: Film Screening\, Discussion and at Schoolcraft College\, October 3\, 2015
DESCRIPTION:The Bear\nFilm Screening\n Saturday\, October 3\, 2015\, 3 p.m.\nVisTaTech Kehrl Auditorium\, Schoolcraft College\, 18600 Haggerty Rd\, Livonia\, MI\n \n$10 Admission\nTickets: Reserve at the Door/Screening\nPayments Accepted: Cash\, Credit Card\, Check \n\n6th Annual Romanian Film Series\nThe American Romanian Festival Film Series is celebrated with a curated films screenings and lectures that explore culture through rich cinematic experiences. The 2015 American Romanian Festival marks the Festival’s 10 Year Anniversary and 6th Annual Romanian Film Series. Help celebrate the occasion by joining us at Schoolcraft College\, October 3\, 2015\, for The Bear film screening and discussion. Admission tickets may be reserved at the door/screening. \n\nFilm Screening\nThe Bear\nUrsul\, 2011\, Dan Chisu\, Comedy\, English Subtitles\, 89 min \nAt the Bucharest Circus\, the new young manager is trying to solve the major financial issues of the company by selling its only bear — old\, and believed to be dying soon. The buyers are German hunters. The circus artists\, however\, do not want to sacrifice their favorite animal. The manager then decides to steal the bear and meet the German hunters to complete the transaction. \n  \n   \n  \n\nDiscussion\nPlease join Ramona Uritescu-Lombard\, film scholar and Lecturer in the German and Comparative Literature departments at the University of Michigan\, for a discussion and Q&A. \n\nSponsors\n[dt_logos columns=”4″ dividers=”true” number=”12″ orderby=”date” order=”desc” animation=”none” category=”2015-sponsors”]
URL:https://americanromanianfestival.org/event/the-bear-film-screening-discussion-and-at-schoolcraft-college-october-3-2015/
LOCATION:VisTaTech\, Schoolcraft College\, 18600 Haggerty Rd\, Livonia\, MI\, 48152\, United States
CATEGORIES:2015 American Romanian Festival,2015 Film Series,American Romanian Festival Events
ATTACH;FMTTYPE=image/png:https://americanromanianfestival.org/wp-content/uploads/2015/09/romania-film-festival-the-bear-ursul-dan-chisu.png
END:VEVENT
END:VCALENDAR