BEGIN:VCALENDAR
VERSION:2.0
PRODID:-//American Romanian Festival - ECPv6.15.20//NONSGML v1.0//EN
CALSCALE:GREGORIAN
METHOD:PUBLISH
X-ORIGINAL-URL:https://americanromanianfestival.org
X-WR-CALDESC:Events for American Romanian Festival
REFRESH-INTERVAL;VALUE=DURATION:PT1H
X-Robots-Tag:noindex
X-PUBLISHED-TTL:PT1H
BEGIN:VTIMEZONE
TZID:America/Detroit
BEGIN:DAYLIGHT
TZOFFSETFROM:-0500
TZOFFSETTO:-0400
TZNAME:EDT
DTSTART:20160313T070000
END:DAYLIGHT
BEGIN:STANDARD
TZOFFSETFROM:-0400
TZOFFSETTO:-0500
TZNAME:EST
DTSTART:20161106T060000
END:STANDARD
BEGIN:DAYLIGHT
TZOFFSETFROM:-0500
TZOFFSETTO:-0400
TZNAME:EDT
DTSTART:20170312T070000
END:DAYLIGHT
BEGIN:STANDARD
TZOFFSETFROM:-0400
TZOFFSETTO:-0500
TZNAME:EST
DTSTART:20171105T060000
END:STANDARD
BEGIN:DAYLIGHT
TZOFFSETFROM:-0500
TZOFFSETTO:-0400
TZNAME:EDT
DTSTART:20180311T070000
END:DAYLIGHT
BEGIN:STANDARD
TZOFFSETFROM:-0400
TZOFFSETTO:-0500
TZNAME:EST
DTSTART:20181104T060000
END:STANDARD
END:VTIMEZONE
BEGIN:VEVENT
DTSTART;TZID=America/Detroit:20171208T180000
DTEND;TZID=America/Detroit:20171208T223000
DTSTAMP:20260423T173411
CREATED:20170915T021914Z
LAST-MODIFIED:20181128T175938Z
UID:1209-1512756000-1512772200@americanromanianfestival.org
SUMMARY:Romanian Culinary Evening Dinner & Music / Schoolcraft College\, December 8\, 2017
DESCRIPTION:Romanian Culinary Evening Dinner & Music\nFriday\, December 8\, 2017\n6:00 p.m. Romanian Culinary Evening Dinner\nVisTaTech Presentation Room\, Schoolcraft College\, 18600 Haggerty\, Livonia\, MI \n$120 Admission\nThe 2017 American Romanian Festival invites you to join us December 8\, 2017 at 6:00 p.m. for a delightful evening of Romanian food prepared by the Master Chefs at Schoolcraft College. Romanian folk music virtuosos violinist Daniel Lazar and cimbalom player Alexandru Şura will perform a short program of Romanian folk tunes from various regions of the country. Join us on this virtual trip to Romania through food and music! \n  \n\n[vc_row][vc_column width=”1/1″][vc_row_inner][vc_column_inner width=”1/4″][vc_column_text] \nArtists\nDaniel Lazar\, violin\nAlexandru Şura\, cimbalom \n[/vc_column_text][/vc_column_inner][vc_column_inner width=”3/4″][vc_column_text][/vc_column_text][/vc_column_inner][/vc_row_inner][/vc_column][/vc_row] \n\nReserve Tickets Online\nBuy Tickets\nTickets: Reserve Tickets Online\, RSVP Required\nPayments Accepted: PayPal (Online); Cash\, Credit Card\, Check (Door) \n\nSponsors \n[dt_logos columns=”5″ dividers=”true” number=”12″ orderby=”date” order=”desc” animation=”none” category=”2017-sponsors”]
URL:https://americanromanianfestival.org/event/romanian-culinary-evening-dinner-music-schoolcraft-college-december-8-2017/
LOCATION:VisTaTech\, Schoolcraft College\, 18600 Haggerty Rd\, Livonia\, MI\, 48152\, United States
CATEGORIES:2017 American Romanian Festival,2017 Concert Series,American Romanian Festival Events
ATTACH;FMTTYPE=image/jpeg:https://americanromanianfestival.org/wp-content/uploads/2015/08/american-romanian-festival-culinary-experience-e1505489006500.jpg
END:VEVENT
BEGIN:VEVENT
DTSTART;TZID=America/Detroit:20171201T113000
DTEND;TZID=America/Detroit:20171201T133000
DTSTAMP:20260423T173411
CREATED:20170915T022002Z
LAST-MODIFIED:20181128T175938Z
UID:1197-1512127800-1512135000@americanromanianfestival.org
SUMMARY:Celebrating Dinu Lipatti & Romania: Chamber Concert at Wayne State University\, December 1\, 2017
DESCRIPTION:Celebrating Dinu Lipatti & Romania\nChamber Music Concert\nFriday\, December 1\, 2017\, 11:30 a.m.\nWayne State University\, Schaver Recital Hall\n480 W Hancock St\, Detroit\, MI 48201 \nFree Admission\nHelp the 2017 American Romanian Festival celebrate December 1\, 2017 at Wayne State University with the chamber music concert “Celebrating Dinu Lipatti & Romania.” \n\n[vc_row][vc_column width=”1/1″][vc_row_inner][vc_column_inner width=”1/4″][vc_column_text] \nArtists\nMarian Tănău\, violin\nDavid LeDoux\, cello\nRobert Conway\, piano \n[/vc_column_text][/vc_column_inner][vc_column_inner width=”3/4″][vc_column_text][/vc_column_text][/vc_column_inner][/vc_row_inner][/vc_column][/vc_row] \n\nConcert Program\nLipatti\nSonatina for the Left Hand \nGeorge Enescu (1881–1955)\nPiano Trio in g minor\nI. Allegro molto vivace\nII. Allegretto grazioso\nIII. Andante\nIV. Presto \n\nSponsors\n[dt_logos columns=”5″ dividers=”true” number=”12″ orderby=”date” order=”desc” animation=”none” category=”2017-sponsors”]
URL:https://americanromanianfestival.org/event/chamber-concert-at-wayne-state-university-december-1-2017/
LOCATION:Schaver Recital Hall\, Wayne State University\, 480 W Hancock St\, Detroit\, MI\, 48201\, United States
CATEGORIES:2017 American Romanian Festival,2017 Concert Series,American Romanian Festival Events
ATTACH;FMTTYPE=image/jpeg:https://americanromanianfestival.org/wp-content/uploads/2017/09/celebrating-dinu-lipatti-piano-romania-4.jpg
END:VEVENT
BEGIN:VEVENT
DTSTART;TZID=America/Detroit:20171105T190000
DTEND;TZID=America/Detroit:20171105T203000
DTSTAMP:20260423T173411
CREATED:20170912T183928Z
LAST-MODIFIED:20190215T074804Z
UID:1195-1509908400-1509913800@americanromanianfestival.org
SUMMARY:Opposites: Chamber Concert at Kerrytown Concert House\, November 5\, 2017
DESCRIPTION:Opposites\nChamber Music Concert\nSunday\, November 5\, 2017\, 7 p.m.\nKerrytown Concert House\n415 N. 4th Ave.\, Ann Arbor\, MI 48104 \nAdmission:$15-$30; Students: $5\nThe 2017 American Romanian Festival invites you to Kerrytown Concert House November 5\, 2017 to experience the chamber music concert “Opposites\,” featuring selections by Enescu and Reich. \n\n[vc_row][vc_column width=”1/1″][vc_row_inner][vc_column_inner width=”1/4″][vc_column_text] \nArtists\nSheryl Hwangbo\, violin\nMarian Tănău\, violin\nHang Su\, viola\nDavid LeDoux\, cello\nZhihua Tang\, piano[/vc_column_text][/vc_column_inner][vc_column_inner width=”3/4″][vc_column_text][/vc_column_text][/vc_column_inner][/vc_row_inner][/vc_column][/vc_row] \n\nConcert Program\nGeorge Enescu  (1881–1955)\nPiano Quintet in D Major\nI. Allegro moderato\nII. Scherzo vivace\nIII. Andante\nIV. Allegro con spirito \nSteve Reich (b 1936)\nDifferent Trains for String Quartet and Pre-Recorded Performance Tape\nI. America – Before the War\nII. Europe – During the War\nIII. After the War\n(Played without pause)\n \n\nSponsors\n[dt_logos columns=”5″ dividers=”true” number=”12″ orderby=”date” order=”desc” animation=”none” category=”2017-sponsors”] \nSaveSave
URL:https://americanromanianfestival.org/event/opposites-chamber-concert-at-kerrytown-concert-house-november-5-2017/
LOCATION:Kerrytown Concert House\,  415 N 4th Ave\, Ann Arbor\, MI\, 48104\, United States
CATEGORIES:2017 American Romanian Festival,2017 Concert Series,American Romanian Festival Events
ATTACH;FMTTYPE=image/jpeg:https://americanromanianfestival.org/wp-content/uploads/2017/09/opposites-chamber-concert.jpg
END:VEVENT
BEGIN:VEVENT
DTSTART;TZID=America/Detroit:20171023T193000
DTEND;TZID=America/Detroit:20171023T213000
DTSTAMP:20260423T173411
CREATED:20170912T181924Z
LAST-MODIFIED:20181128T175939Z
UID:1190-1508787000-1508794200@americanromanianfestival.org
SUMMARY:From the Countryside: Chamber Orchestra Concert at Wayne State University\, October 23\, 2017
DESCRIPTION:From the Countryside\nChamber Orchestra Concert\nMonday\, October 23\, 2017\, 7:30 p.m.\nWayne State University\, Schaver Recital Hall\n480 W Hancock St\, Detroit\, MI 48201 \nFree Admission\nJoin us for “From the Countryside\,” a Chamber Orchestra Concert at Schaver Recital Hall\, Wayne State University in Detroit\, Michigan. \n\n[vc_row][vc_column width=”1/1″][vc_row_inner][vc_column_inner width=”1/3″][vc_column_text] \nArtists\nKypros Markou\, conductor\nRobert Conway\, piano\nKazimierz Brzozowski\, piano\nWayne State University Orchestra \n[/vc_column_text][/vc_column_inner][vc_column_inner width=”2/3″][vc_column_text]\n[/vc_column_text][/vc_column_inner][/vc_row_inner][/vc_column][/vc_row] \nWayne State University Orchestra\n[vc_row][vc_column][vc_column_text] \n[/vc_column_text][/vc_column][/vc_row][vc_row][vc_column width=”1/3″][vc_column_text] \nVIOLIN I\nHai Xin Wu*\nChance McDermott\nSean O’Connell\nAmanda Baune\nElise Komer\nLarissa Verley \nVIOLIN II\nDr. Laura Roelofs*\nRaymond Li\nIsaac Weiss\nPhillip Sylvester\nJocelyn Palmer \n[/vc_column_text][/vc_column][vc_column width=”1/3″][vc_column_text] \nVIOLA\nJohn Madison*\nMadison Hilborn\nGabriel Paese\nGabriel Bray \nCELLO\nJudith Vander Weg*\nChristian Sands\nGavin Langley \nBASS\nLarry Hutchinson*\nMitchell Anderson \n[/vc_column_text][/vc_column][vc_column width=”1/3″][vc_column_text] \nFLUTE\nCatherine Butler \nCLARINET\nLaurence Liberson+ \nBASSOON\nIsaac Bartol \n* Wayne State University faculty\n+ Detroit Symphony Orchestra \n[/vc_column_text][/vc_column][/vc_row] \n\nConcert Program\nCornel Ţăranu (b. 1934)\nSequences \nDinu Lipatti  (1917–1950)\nSymphonie concertante\, Op. 5\nI. Molto maestoso\nII. Molto adagio\nIII. Allegro con spirito \nCindy McTee (b. 1953)\nAdagio \nAaron Copland (1900–1990)\nAppalachian Spring\nI. Very slowly\nII. Fast/Allegro\nIII. Moderate/Moderato\nIV. Quite fast\nV. Still faster/Subito Allegro\nVI. Very slowly (as at first)\nVII. Calm and flowing/Doppio Movimento\nVIII. Moderate. Coda/Moderato – Coda \n  \n\nSponsors\n[dt_logos columns=”5″ dividers=”true” number=”12″ orderby=”date” order=”desc” animation=”none” category=”2017-sponsors”]
URL:https://americanromanianfestival.org/event/from-the-countryside-chamber-orchestra-concert-wayne-state-university-october-23-2017/
LOCATION:Schaver Recital Hall\, Wayne State University\, 480 W Hancock St\, Detroit\, MI\, 48201\, United States
CATEGORIES:2017 American Romanian Festival,2017 Concert Series,American Romanian Festival Events
ATTACH;FMTTYPE=image/jpeg:https://americanromanianfestival.org/wp-content/uploads/2017/09/front-the-countryside-chamber-concert.jpg
END:VEVENT
BEGIN:VEVENT
DTSTART;TZID=America/Detroit:20171014T150000
DTEND;TZID=America/Detroit:20171014T170000
DTSTAMP:20260423T173411
CREATED:20170915T021747Z
LAST-MODIFIED:20181128T175940Z
UID:1166-1507993200-1508000400@americanromanianfestival.org
SUMMARY:Celebrating 100 years of Lipatti! Recital Concert at Steinway Piano Gallery\, October 14\, 2017
DESCRIPTION:Celebrating 100 years of Lipatti! Valentin Mihai Bogdan Recital Program\nRecital Concert\nSaturday\, October 14\, 2017\, 3 p.m.\nSteinway Piano Gallery\n2700 E West Maple Rd.\, Commerce Charter Twp\, MI 48390\n \nAdmission $20\nThe 2017 American Romanian Festival is delighted to host visiting artist Valentine Bogdan in a recital concert “Celebrating 100 years of Lipatti!” Join us for an afternoon of music at Steinway Piano Gallery. \n\n[vc_row][vc_column width=”1/1″][vc_row_inner][vc_column_inner width=”1/4″][vc_column_text] \nArtists\nValentin Mihai Bogdan\, piano \n[/vc_column_text][/vc_column_inner][vc_column_inner width=”3/4″][vc_column_text][/vc_column_text][/vc_column_inner][/vc_row_inner][/vc_column][/vc_row] \n\nConcert Program\nFranz Schubert (1797–1828)\nImpromptu No. 3 in G-flat Major\, D 899 \nDinu Lipatti (1917–1950)\nFantasie\, Op. 8\n(selected movements) \nGeorge Enescu (1881–1955)\nRomanian Rhapsody\, Op. 11\, No. 1 \n(concert transcriptions for solo piano by the composer) \nTudor Ciortea (1903–1982)\nSuite for the Piano \nI. Colind (Carol)\nII. Joc (Dance)\nIII. Cantec (Song)\nIV. Joc (Dance)\nV. Bocet (Funeral Song)\nVI. Joc (Dance) \nValentin Mihai Bogdan (b. 1981)\nEtudes for Solo Piano \nI. Introduction\nII. Basso Ostinato\nIII. Sets\nIV. Aug(Mented) \nPaul Constantinescu (1909–1963)\nTrei Piese Pentru Pian\n(Three Pieces for the Piano)\nI. Joc (Dance)\nII. Cantec (Song)\nIII. Dans din Dobrogea – Toccata (Dobrogean Dance) \n  \n\nTickets: Reserve Tickets Online\nPayments Accepted: PayPal (Online); Cash\, Credit Card\, Check (Door) \nBuy Tickets\n\nSponsors\n[dt_logos columns=”5″ dividers=”true” number=”12″ orderby=”date” order=”desc” animation=”none” category=”2017-sponsors”] \nSaveSave
URL:https://americanromanianfestival.org/event/celebrating-100-years-of-lipatti-recital-concert-at-steinway-piano-gallery-october-14-2017/
LOCATION:MI
CATEGORIES:2017 American Romanian Festival,2017 Concert Series,American Romanian Festival Events
ATTACH;FMTTYPE=image/jpeg:https://americanromanianfestival.org/wp-content/uploads/2017/09/celebrating-100-years-of-lipatti-piano-recital-concert-3.jpg
END:VEVENT
BEGIN:VEVENT
DTSTART;TZID=America/Detroit:20171013T113000
DTEND;TZID=America/Detroit:20171013T133000
DTSTAMP:20260423T173411
CREATED:20170912T071114Z
LAST-MODIFIED:20181128T175941Z
UID:1162-1507894200-1507901400@americanromanianfestival.org
SUMMARY:Opposites: Chamber Concert at Wayne State University\, October 13\, 2017
DESCRIPTION:Opposites\nChamber Music Concert\n Friday\, October 13\, 2017\, 11:30 a.m.\nSchaver Recital Hall\, Wayne State University\n480 W Hancock St\, Detroit\, MI 48201\n \nFree Admission\nThe 2017 American Romanian Festival begins October 13\, 2017 at Wayne State University. Join us for the chamber music concert “Opposites\,” featuring selections by Enescu and Reich. \n\n[vc_row][vc_column width=”1/1″][vc_row_inner][vc_column_inner width=”1/4″][vc_column_text] \nArtists\nSheryl Hwangbo\, violin\nMarian Tănău\, violin\nHang Su\, viola\nDavid LeDoux\, cello\nZhihua Tang\, piano[/vc_column_text][/vc_column_inner][vc_column_inner width=”3/4″][vc_column_text][/vc_column_text][/vc_column_inner][/vc_row_inner][/vc_column][/vc_row] \n\nConcert Program\nGeorge Enescu  (1881–1955)\nPiano Quintet in D Major\nI. Allegro moderato\nII. Scherzo vivace\nIII. Andante\nIV. Allegro con spirito \nSteve Reich (b 1936)\nDifferent Trains for String Quartet and Pre-Recorded Performance Tape\nI. America – Before the War\nII. Europe – During the War\nIII. After the War\n(Played without pause) \n\nSponsors\n[dt_logos columns=”5″ dividers=”true” number=”12″ orderby=”date” order=”desc” animation=”none” category=”2017-sponsors”]
URL:https://americanromanianfestival.org/event/opposites-chamber-concert-wayne-state-university-october-13-2017/
LOCATION:Schaver Recital Hall\, Wayne State University\, 480 W Hancock St\, Detroit\, MI\, 48201\, United States
CATEGORIES:2017 American Romanian Festival,2017 Concert Series,American Romanian Festival Events
ATTACH;FMTTYPE=image/jpeg:https://americanromanianfestival.org/wp-content/uploads/2017/09/opposites-chamber-concert-october-13-2017.jpg
END:VEVENT
END:VCALENDAR