BEGIN:VCALENDAR
VERSION:2.0
PRODID:-//American Romanian Festival - ECPv6.15.20//NONSGML v1.0//EN
CALSCALE:GREGORIAN
METHOD:PUBLISH
X-WR-CALNAME:American Romanian Festival
X-ORIGINAL-URL:https://americanromanianfestival.org
X-WR-CALDESC:Events for American Romanian Festival
REFRESH-INTERVAL;VALUE=DURATION:PT1H
X-Robots-Tag:noindex
X-PUBLISHED-TTL:PT1H
BEGIN:VTIMEZONE
TZID:America/Detroit
BEGIN:DAYLIGHT
TZOFFSETFROM:-0500
TZOFFSETTO:-0400
TZNAME:EDT
DTSTART:20160313T070000
END:DAYLIGHT
BEGIN:STANDARD
TZOFFSETFROM:-0400
TZOFFSETTO:-0500
TZNAME:EST
DTSTART:20161106T060000
END:STANDARD
BEGIN:DAYLIGHT
TZOFFSETFROM:-0500
TZOFFSETTO:-0400
TZNAME:EDT
DTSTART:20170312T070000
END:DAYLIGHT
BEGIN:STANDARD
TZOFFSETFROM:-0400
TZOFFSETTO:-0500
TZNAME:EST
DTSTART:20171105T060000
END:STANDARD
BEGIN:DAYLIGHT
TZOFFSETFROM:-0500
TZOFFSETTO:-0400
TZNAME:EDT
DTSTART:20180311T070000
END:DAYLIGHT
BEGIN:STANDARD
TZOFFSETFROM:-0400
TZOFFSETTO:-0500
TZNAME:EST
DTSTART:20181104T060000
END:STANDARD
END:VTIMEZONE
BEGIN:VEVENT
DTSTART;TZID=America/Detroit:20171112T171500
DTEND;TZID=America/Detroit:20171112T190000
DTSTAMP:20260423T173401
CREATED:20170912T190704Z
LAST-MODIFIED:20181128T175939Z
UID:1207-1510506900-1510513200@americanromanianfestival.org
SUMMARY:By the Rails: Film Screening at UMMA\, November 12\, 2017
DESCRIPTION:By the Rails  \n8th Romanian Film Series: Film Screening\nSunday\, November 12\, 2017\, 5:15 p.m.\nHelmut Stern Auditorium\, University of Michigan Museum of Art\n525 S State St\, Ann Arbor\, MI 48109 \nFree Admission\n\nFilm Screening\nBy the Rails\nDincolo de calea ferata\, 2016; Cătălin Mitulescu\, Drama\, English Subtitles\, 88 minutes \nRadu has come back from Italy after a year and finds his wife totally changed. They spend the night trying to rediscover themselves. The distance has created distrust and confusion between them\, but Radu hopes for a new beginning. \nTrailer: https://www.youtube.com/watch?v=bE_brOVaWH8 \nQ & A to follow. \n\nSponsors\n[dt_logos columns=”5″ dividers=”true” number=”12″ orderby=”date” order=”desc” animation=”none” category=”2017-sponsors”]
URL:https://americanromanianfestival.org/event/rails-film-screening-umma-november-12-2017/
LOCATION:Helmut Stern Auditorium\, University of Michigan Museum of Art (UMMA)\,  525 South State Street\, Ann Arbor\, 48109\, United States
CATEGORIES:2017 American Romanian Festival,2017 Film Series,American Romanian Festival Events
ATTACH;FMTTYPE=image/jpeg:https://americanromanianfestival.org/wp-content/uploads/2017/09/by-the-rails.jpg
END:VEVENT
BEGIN:VEVENT
DTSTART;TZID=America/Detroit:20171112T153000
DTEND;TZID=America/Detroit:20171112T170000
DTSTAMP:20260423T173401
CREATED:20170912T190322Z
LAST-MODIFIED:20181128T175939Z
UID:1205-1510500600-1510506000@americanromanianfestival.org
SUMMARY:Everybody in Our Family: Film Screening at UMMA\, November 12\, 2017
DESCRIPTION:Everybody in Our Family \n8th Romanian Film Series: Film Screening\nSunday\, November 12\, 2017\, 3:30 p.m.\nHelmut Stern Auditorium\, University of Michigan Museum of Art\n525 S State St\, Ann Arbor\, MI 48109 \nFree Admission\n\nFilm Screening\nEverybody in Our Family \nToata lumea din familia noastra\, 2012\, Radu Jude; Comedy\, English Subtitles\, 107 minutes \nMarius\, a divorced father\, is frustrated that his five-year-old daughter Sofia lives with her mother.  When he wants to take his daughter with him on holiday\, he is told that she is ill. Suspecting a lie\, he insists to take her with him\, leading to a series of comic mishaps\, lies\, police interventions\, all to the tune of children’s songs. With famed Romanian actress Stela Popescu. \nTrailer: https://www.youtube.com/watch?v=StNH7O2IYm8 \nQ & A to follow. \n\nSponsors\n[dt_logos columns=”5″ dividers=”true” number=”12″ orderby=”date” order=”desc” animation=”none” category=”2017-sponsors”]
URL:https://americanromanianfestival.org/event/everybody-family-film-screening-umma-november-12-2017/
LOCATION:Helmut Stern Auditorium\, University of Michigan Museum of Art (UMMA)\,  525 South State Street\, Ann Arbor\, 48109\, United States
CATEGORIES:2017 American Romanian Festival,2017 Film Series,American Romanian Festival Events
ATTACH;FMTTYPE=image/jpeg:https://americanromanianfestival.org/wp-content/uploads/2017/09/all-in-the-family.jpg
END:VEVENT
BEGIN:VEVENT
DTSTART;TZID=America/Detroit:20171111T173000
DTEND;TZID=America/Detroit:20171111T190000
DTSTAMP:20260423T173401
CREATED:20170912T185558Z
LAST-MODIFIED:20181128T175939Z
UID:1202-1510421400-1510426800@americanromanianfestival.org
SUMMARY:The Treasure: Film Screening at UMMA\, November 11\, 2017
DESCRIPTION:The Treasure\n8th Romanian Film Series: Film Screening\nSaturday\, November 11\, 2017\, 5:30 p.m.\nHelmut Stern Auditorium\, University of Michigan Museum of Art\n525 S State St\, Ann Arbor\, MI 48109 \nFree Admission\n\nFilm Screening\nThe Treasure\nComoara\, 2015\, Corneliu Porumboiu\, Drama\, English Subtitles\, 89 minutes \nCosti leads a peaceful life until one day when his neighbor pays him an unexpected visit and shares with him that his grandparent’s garden has a buried treasure.  He offers Costi half of what they will find\, pending that Costi will rent a metal detector. Costi eventually accepts the proposal.  \nTrailer: https://www.youtube.com/watch?v=_f1pZHTh6K0 \nQ & A to follow. \n\nSponsors\n[dt_logos columns=”5″ dividers=”true” number=”12″ orderby=”date” order=”desc” animation=”none” category=”2017-sponsors”]
URL:https://americanromanianfestival.org/event/treasure-film-screening-umma-november-11-2017/
LOCATION:Helmut Stern Auditorium\, University of Michigan Museum of Art (UMMA)\,  525 South State Street\, Ann Arbor\, 48109\, United States
CATEGORIES:2017 American Romanian Festival,2017 Film Series,American Romanian Festival Events
ATTACH;FMTTYPE=image/jpeg:https://americanromanianfestival.org/wp-content/uploads/2017/09/the-treasure.jpg
END:VEVENT
BEGIN:VEVENT
DTSTART;TZID=America/Detroit:20171111T153000
DTEND;TZID=America/Detroit:20171111T170000
DTSTAMP:20260423T173401
CREATED:20170912T185249Z
LAST-MODIFIED:20181128T175939Z
UID:1199-1510414200-1510419600@americanromanianfestival.org
SUMMARY:Two Lottery Tickets: Film Screening at UMMA\, November 11\, 2017
DESCRIPTION:Two Lottery Tickets\n8th Romanian Film Series: Film Screening\nSaturday\, November 11\, 2017\, 3:30 p.m.\nHelmut Stern Auditorium\, University of Michigan Museum of Art\n525 S State St\, Ann Arbor\, MI 48109 \nFree Admission\n\nFilm Screening\nTwo Lottery Tickets\nDouă Lozuri\, 2016; Paul Negoescu\, Comedy\, English Subtitles\, 86 minutes \nThree men from a provincial town are in urgent need of money and decide to buy a lottery ticket. They win the lottery but soon after\, their ticket gets stolen. \nTrailer: https://www.youtube.com/watch?v=j6GvCvAS22Q \nQ & A to follow. \n\n\nSponsors\n[dt_logos columns=”5″ dividers=”true” number=”12″ orderby=”date” order=”desc” animation=”none” category=”2017-sponsors”]
URL:https://americanromanianfestival.org/event/two-lottery-tickets-film-screening-at-umma-november-11-2017/
LOCATION:Helmut Stern Auditorium\, University of Michigan Museum of Art (UMMA)\,  525 South State Street\, Ann Arbor\, 48109\, United States
CATEGORIES:2017 American Romanian Festival,2017 Film Series,American Romanian Festival Events
ATTACH;FMTTYPE=image/jpeg:https://americanromanianfestival.org/wp-content/uploads/2017/09/two-lottery-tickets.jpg
END:VEVENT
END:VCALENDAR