BEGIN:VCALENDAR
VERSION:2.0
PRODID:-//American Romanian Festival - ECPv6.15.20//NONSGML v1.0//EN
CALSCALE:GREGORIAN
METHOD:PUBLISH
X-ORIGINAL-URL:https://americanromanianfestival.org
X-WR-CALDESC:Events for American Romanian Festival
REFRESH-INTERVAL;VALUE=DURATION:PT1H
X-Robots-Tag:noindex
X-PUBLISHED-TTL:PT1H
BEGIN:VTIMEZONE
TZID:America/Detroit
BEGIN:DAYLIGHT
TZOFFSETFROM:-0500
TZOFFSETTO:-0400
TZNAME:EDT
DTSTART:20170312T070000
END:DAYLIGHT
BEGIN:STANDARD
TZOFFSETFROM:-0400
TZOFFSETTO:-0500
TZNAME:EST
DTSTART:20171105T060000
END:STANDARD
BEGIN:DAYLIGHT
TZOFFSETFROM:-0500
TZOFFSETTO:-0400
TZNAME:EDT
DTSTART:20180311T070000
END:DAYLIGHT
BEGIN:STANDARD
TZOFFSETFROM:-0400
TZOFFSETTO:-0500
TZNAME:EST
DTSTART:20181104T060000
END:STANDARD
BEGIN:DAYLIGHT
TZOFFSETFROM:-0500
TZOFFSETTO:-0400
TZNAME:EDT
DTSTART:20190310T070000
END:DAYLIGHT
BEGIN:STANDARD
TZOFFSETFROM:-0400
TZOFFSETTO:-0500
TZNAME:EST
DTSTART:20191103T060000
END:STANDARD
END:VTIMEZONE
BEGIN:VEVENT
DTSTART;TZID=America/Detroit:20180929T150000
DTEND;TZID=America/Detroit:20180929T150000
DTSTAMP:20260423T173513
CREATED:20180902T015251Z
LAST-MODIFIED:20181128T175937Z
UID:1419-1538233200-1538233200@americanromanianfestival.org
SUMMARY:From Folk to Classic with Cimbalom & Violin / Steinway Piano Gallery\, September 29\, 2018
DESCRIPTION:From Folk to Classic with Cimbalom & Violin\nChamber Music Concert\nSaturday\, September 29\, 2018\, 3 p.m.\n2700 E West Maple Rd\, Commerce Charter Twp\, MI 48390 \n$25 Admission\nThis is a concert in celebration of the 100 year anniversary of Romania’s unification of the Romanian regions into a new republic.\nThe date of the unification was December 1st\, 2018. The folk melodies from Romania are from different regions of the country. The anonymous composer songs have been passed from generation to generation through the memory of the performers. The cimbalom is an instrument present throughout the Balkans regions and predominant in Romanian folk music. We hope that this special and unique concert will present a kaleidoscope of Romania through the ancestral voices of the Romanian songs. \n\n[vc_row][vc_column width=”1/1″][vc_row_inner][vc_column_inner width=”1/4″][vc_column_text] \nArtists\nDaniel Lazăr\, violin\nAlexandru Şura\, cimbalom\nRobert Conway\, piano \n[/vc_column_text][/vc_column_inner][vc_column_inner width=”3/4″][vc_column_text][/vc_column_text][/vc_column_inner][/vc_row_inner][/vc_column][/vc_row] \n\n \n\nConcert Program\nToni Iordache (1942–1988)\n“Balada haiduceasca” \nanonymous\nVariations on the song “Corn Harvest” (Variatiuni pe tema “La cules de cucuruz”)  \nanonymous\nSuite from the Banat region (Suita Banat)   \nanonymous\nSuite from the Maramureş/Oaşi region (Suita Maramureş/Oaşi)  \nanonymous\nSuite from the Mureş/Alba region (Suita Mureş/Alba)   \nanonymous\n“River Someş” (“Someş”)  \nanonymous\n“Young Man’s Dance” (“Fecioresc”)\nDaniel Lazăr\, violin; Alexandru Şura\, cimbalom \n  \n– INTERMISSION – \n  \nanonymous\nFolk suite Barbu Lautarul (Suita Barbu Lautarul) \nanonymous\nHungarian folk suite (Suita Ungureasca)  \nanonymous\nSuite from the Oltenia Region (Suita Olteneasca) \nAram Khachaturian (1903–1978) arr: A. Sura\n“Sabre Dance” \nNikolai Rimsky-Korsakov (1844–1908)\n“Flight of the Bumblebee”  \nCamille Saint-Saëns (1835–1921)\nIntroduction and Rondo capriccioso \nVittorio Monti (1868–1922)\nCzardas (Csárdás)\nAlexandru Şura\, cimbalom; Robert Conway\, piano \n  \n\nSponsors\n[dt_logos columns=”5″ dividers=”true” number=”12″ orderby=”date” order=”desc” animation=”none” category=”2018-sponsors”]
URL:https://americanromanianfestival.org/event/from-folk-to-classic-with-cimbalom-violin-steinway-piano-gallery-september-29-2018/
LOCATION:Steinway Piano Gallery\, 2700 E. West Maple Rd.\, Commerce Charter Township\, MI\, 48390\, United States
CATEGORIES:2018 American Romanian Festival,2018 Concert Series,American Romanian Festival Events
ATTACH;FMTTYPE=image/jpeg:https://americanromanianfestival.org/wp-content/uploads/2018/09/folk-to-classic-violin-cimbalom-229.jpg
END:VEVENT
BEGIN:VEVENT
DTSTART;TZID=America/Detroit:20180928T113000
DTEND;TZID=America/Detroit:20180928T122000
DTSTAMP:20260423T173513
CREATED:20180902T015713Z
LAST-MODIFIED:20181128T175938Z
UID:1428-1538134200-1538137200@americanromanianfestival.org
SUMMARY:Ancestral Voices: Music for Violin & Cimbalom / Wayne State University\, September 28\, 2018
DESCRIPTION:Ancestral Voices: Music for Violin & Cimbalom\nChamber Music Concert\nFriday\, September 28\, 2018\, 11:30 a.m.\nWayne State University\, Schaver Recital Hall\, 480 W Hancock St\, Detroit\, MI 48201 \nFree Admission\nThis is a concert in celebration of the 100-year anniversary of Romania’s unification of the Romanian regions into a new republic.\nThe date of the unification was December 1\, 1918. The Romanian folk melodies are from different regions of the country\, and the anonymous composer songs have been passed from generation to generation through the memory of the performers. Toni Iordache was a Romani-Romanian lăutar and one of the most famous cimbalom (Romanian: ţambal) players in the world. He was nicknamed the “God of the Cimbalom” and the “Paganini of the Cimbalom.” We hope that this special and unique concert will present a kaleidoscope of Romania through the ancestral voices of the Romanian songs. \n\n[vc_row][vc_column width=”1/1″][vc_row_inner][vc_column_inner width=”1/4″][vc_column_text] \nArtists\nDaniel Lazăr\, violin\nAlexandru Şura\, cimbalom \n[/vc_column_text][/vc_column_inner][vc_column_inner width=”3/4″][vc_column_text][/vc_column_text][/vc_column_inner][/vc_row_inner][/vc_column][/vc_row] \n\n \n\nConcert Program\nToni Iordache (1942-1988)\n“Balada haiduceasca” \nanonymous\nVariations on the song “Corn Harvest”\n(Variatiuni pe tema “La cules de cucuruz”)\n \nanonymous\nFolk suite Barbu Lautarul (Suita Barbu Lautarul)  \nAlexandru Şura\, cimbalom \nanonymous\nSuite from the Banat region (Suita Banat) \nanonymous\nSuite from the Maramureş/Oaşi region (Suita Maramureş/Oaşi)  \nanonymous\nSuite from the Mureş/Alba region (Suita Mureş/Alba) \nanonymous\n“River Someş” (“Someş”) \nanonymous\n“Young Man’s Dance” (“Fecioresc”)   \nDaniel Lazăr\, violin; Alexandru Şura\, cimbalom \n  \n\nSponsors\n[dt_logos columns=”5″ dividers=”true” number=”12″ orderby=”date” order=”desc” animation=”none” category=”2018-sponsors”]
URL:https://americanromanianfestival.org/event/ancestral-voices-music-for-violin-cimbalom-wayne-state-university-september-28-2018/
LOCATION:Schaver Recital Hall\, Wayne State University\, 480 W Hancock St\, Detroit\, MI\, 48201\, United States
CATEGORIES:2018 American Romanian Festival,2018 Concert Series,American Romanian Festival Events
ATTACH;FMTTYPE=image/jpeg:https://americanromanianfestival.org/wp-content/uploads/2018/09/ancestral-voices-music-for-violin-cimbalom.jpg
END:VEVENT
BEGIN:VEVENT
DTSTART;TZID=America/Detroit:20180317T150000
DTEND;TZID=America/Detroit:20180317T170000
DTSTAMP:20260423T173513
CREATED:20180127T193230Z
LAST-MODIFIED:20181128T175938Z
UID:1352-1521298800-1521306000@americanromanianfestival.org
SUMMARY:Passionate Enescu: Chamber Concert at Steinway Piano Gallery\, March 17\, 2018
DESCRIPTION:Passionate Enescu\nChamber Music Concert\nSaturday\, March 17\, 2018\, 3 p.m. \nSteinway Piano Gallery Detroit\n2700 E West Maple Rd\nCommerce Charter Twp\, MI 48390 \n$20 Admission / buy tickets\nJoin us March 17\, 2018 at Steinway Piano Gallery for the chamber music concert “Passionate Enescu.” Composed when George Enescu was 19 the Octet for Strings in C major\, Op. 7\, is regarded as amongst the most notable successors to Felix Mendelssohn’s celebrated Octet. Hear this and a Piano Quintet from his youth\, live with Detroit Symphony Musicians at Steinway Piano Gallery Detroit. Reserve tickets online today. \n\n[vc_row][vc_column width=”1/1″][vc_row_inner][vc_column_inner width=”1/4″][vc_column_text] \nArtists\nMarian Tănău\, violin\nHeidi Han\, violin\nSheryl Hwangbo\, violin\nSujin Lim\, violin\nWilliam Haapanemi\, viola\nHang Su\, viola\nDavid LeDoux\, cello\nJeremy Crosmer\, cello\nZhihua Tang\, piano \n  \n[/vc_column_text][/vc_column_inner][vc_column_inner width=”3/4″][vc_column_text]\n[/vc_column_text][/vc_column_inner][/vc_row_inner][/vc_column][/vc_row] \n\nConcert Program\nGeorge Enescu (1881–1955)\nPiano Quintet in D Major\nAllegro moderato\nScherzo vivace\nAndante\nAllegro con spirito \nSheryl Hwangbo\, violin; Heidi Han\, violin; Hang Su\, viola; David LeDoux\, cello; Zhihua Tang\, piano \n– INTERMISSION – \nGeorge Enescu (1881–1955)\nOctet for Strings\, Op. 7 (1897)\nTrès modéré\nTrès fougueux\nLentement\nMouvement de valse ben rythmée \n\nThis concert is given in preparation for the Romanian concerts as part of this 2018 Season’s American Romanian Festival.
URL:https://americanromanianfestival.org/event/passionate-enescu-chamber-concert-at-steinway-piano-gallery-march-17-2018/
LOCATION:Steinway Piano Gallery\, 2700 E. West Maple Rd.\, Commerce Charter Township\, MI\, 48390\, United States
CATEGORIES:2018 American Romanian Festival,2018 Concert Series,American Romanian Festival Events
ATTACH;FMTTYPE=image/jpeg:https://americanromanianfestival.org/wp-content/uploads/2018/01/passionate-enescu-30r.jpg
END:VEVENT
END:VCALENDAR