BEGIN:VCALENDAR
VERSION:2.0
PRODID:-//American Romanian Festival - ECPv6.15.20//NONSGML v1.0//EN
CALSCALE:GREGORIAN
METHOD:PUBLISH
X-ORIGINAL-URL:https://americanromanianfestival.org
X-WR-CALDESC:Events for American Romanian Festival
REFRESH-INTERVAL;VALUE=DURATION:PT1H
X-Robots-Tag:noindex
X-PUBLISHED-TTL:PT1H
BEGIN:VTIMEZONE
TZID:Europe/Bucharest
BEGIN:DAYLIGHT
TZOFFSETFROM:+0200
TZOFFSETTO:+0300
TZNAME:EEST
DTSTART:20180325T010000
END:DAYLIGHT
BEGIN:STANDARD
TZOFFSETFROM:+0300
TZOFFSETTO:+0200
TZNAME:EET
DTSTART:20181028T010000
END:STANDARD
BEGIN:DAYLIGHT
TZOFFSETFROM:+0200
TZOFFSETTO:+0300
TZNAME:EEST
DTSTART:20190331T010000
END:DAYLIGHT
BEGIN:STANDARD
TZOFFSETFROM:+0300
TZOFFSETTO:+0200
TZNAME:EET
DTSTART:20191027T010000
END:STANDARD
BEGIN:DAYLIGHT
TZOFFSETFROM:+0200
TZOFFSETTO:+0300
TZNAME:EEST
DTSTART:20200329T010000
END:DAYLIGHT
BEGIN:STANDARD
TZOFFSETFROM:+0300
TZOFFSETTO:+0200
TZNAME:EET
DTSTART:20201025T010000
END:STANDARD
END:VTIMEZONE
BEGIN:VTIMEZONE
TZID:America/Detroit
BEGIN:DAYLIGHT
TZOFFSETFROM:-0500
TZOFFSETTO:-0400
TZNAME:EDT
DTSTART:20180311T070000
END:DAYLIGHT
BEGIN:STANDARD
TZOFFSETFROM:-0400
TZOFFSETTO:-0500
TZNAME:EST
DTSTART:20181104T060000
END:STANDARD
BEGIN:DAYLIGHT
TZOFFSETFROM:-0500
TZOFFSETTO:-0400
TZNAME:EDT
DTSTART:20190310T070000
END:DAYLIGHT
BEGIN:STANDARD
TZOFFSETFROM:-0400
TZOFFSETTO:-0500
TZNAME:EST
DTSTART:20191103T060000
END:STANDARD
BEGIN:DAYLIGHT
TZOFFSETFROM:-0500
TZOFFSETTO:-0400
TZNAME:EDT
DTSTART:20200308T070000
END:DAYLIGHT
BEGIN:STANDARD
TZOFFSETFROM:-0400
TZOFFSETTO:-0500
TZNAME:EST
DTSTART:20201101T060000
END:STANDARD
END:VTIMEZONE
BEGIN:VEVENT
DTSTART;TZID=Europe/Bucharest:20191109T150000
DTEND;TZID=Europe/Bucharest:20191109T150000
DTSTAMP:20260423T165922
CREATED:20190906T015754Z
LAST-MODIFIED:20190925T232237Z
UID:1789-1573311600-1573311600@americanromanianfestival.org
SUMMARY:From America to the East / November 9\, 2019
DESCRIPTION:From America to the East — Piano Trios\nChamber Music Concert\nSaturday\, November 9\, 2019\, 3 p.m.\nSteinway Piano Gallery Detroit\, 2700 E West Maple Rd\, Commerce Charter Twp\, MI 48390 \n$20 Admission\nJoin us for the chamber music concert “From America to the East” performed at Steinway Piano Gallery. \nThis concert is given as part of this season’s American Romanian Festival. \n\n[vc_row][vc_column width=”1/1″][vc_row_inner][vc_column_inner width=”1/3″][vc_column_text] \nArtists\nMarian Tănău\, violin\nJeremy Crosmer\, cello\nKazimierz Brzozowski\, piano \n[/vc_column_text][/vc_column_inner][vc_column_inner width=”2/3″][vc_column_text]\n\n[/vc_column_text][/vc_column_inner][/vc_row_inner][/vc_column][/vc_row] \n\nConcert Program\n  \nGeorge Enescu (1881–1955)\nPiano Trio in g minor\nAllegro molto vivace\nAllegretto grazioso\nAndante\nPresto \n  \nChick Corea (b. 1940)\nAddendum \n  \n– INTERMISSION – \n  \nDimitri Shostakovich (1906–1975)\nPiano Trio No.2\, Op. 67\nAndante\nAllegro con brio\nLargo\nAllegretto  \n  \n\nSponsors\n[dt_logos columns=”5″ dividers=”true” number=”12″ orderby=”date” order=”desc” animation=”none” category=”2019-sponsors”] \n 
URL:https://americanromanianfestival.org/event/from-america-to-the-east-november-9-2019/
LOCATION:Steinway Piano Gallery\, 2700 E. West Maple Rd.\, Commerce Charter Township\, MI\, 48390\, United States
CATEGORIES:2019 American Romanian Festival,2019 Concert Series,American Romanian Festival Events
ATTACH;FMTTYPE=image/jpeg:https://americanromanianfestival.org/wp-content/uploads/2019/09/american-to-east.jpg
END:VEVENT
BEGIN:VEVENT
DTSTART;TZID=Europe/Bucharest:20191019T150000
DTEND;TZID=Europe/Bucharest:20191019T150000
DTSTAMP:20260423T165922
CREATED:20190906T001412Z
LAST-MODIFIED:20190926T232431Z
UID:1784-1571497200-1571497200@americanromanianfestival.org
SUMMARY:Profane & Sacred / Saturday\, October 19\, 2019
DESCRIPTION:Profane & Sacred \nChamber Music Concert\nSaturday\, October 19\, 2019\, 3 p.m.\nSteinway Piano Gallery Detroit\, 2700 E West Maple Rd\, Commerce Charter Twp\, MI 48390 \n$20 Admission\nJoin us for the chamber music concert “Profane & Sacred” performed at Steinway Piano Gallery. \nThis concert is given as part of this season’s American Romanian Festival. \n\n[vc_row][vc_column width=”1/1″][vc_row_inner][vc_column_inner width=”1/3″][vc_column_text] \nArtists\nSujin Lim\, violin\nMarian Tănău\, violin\nMike Chen\, viola\nJeremy Crosmer\, cello \n[/vc_column_text][/vc_column_inner][vc_column_inner width=”2/3″][vc_column_text]\n\n[/vc_column_text][/vc_column_inner][/vc_row_inner][/vc_column][/vc_row] \n\nConcert Program\nGabriel Malancioiu (b. 1979)\nProfane & Sacred for two violins and viola \n  \nEde Terényi (b. 1935)\nString Quartet No. 2\nTempo I Presto\nAndante Maestoso\nAllegro vivace\nAndante cantabile\nAllegretto \n  \nCiprian Porumbescu (arr. Jeremy Crosmer)\nBalad \n  \n– INTERMISSION – \n  \nTheodor Grigoriu (b. 1926)\nString Quartet “On the River Arges”\nBallade: Moderato poco rubato\nDance with flute\nA la sorce: Lento soave\nThe small willow: Allegro molto \n  \n\nSponsors\n[dt_logos columns=”5″ dividers=”true” number=”12″ orderby=”date” order=”desc” animation=”none” category=”2019-sponsors”] \n 
URL:https://americanromanianfestival.org/event/profane-sacred-saturday-october-19-2019/
LOCATION:Steinway Piano Gallery\, 2700 E. West Maple Rd.\, Commerce Charter Township\, MI\, 48390\, United States
CATEGORIES:2019 American Romanian Festival,2019 Concert Series,American Romanian Festival Events
ATTACH;FMTTYPE=image/jpeg:https://americanromanianfestival.org/wp-content/uploads/2019/09/arf-2019-photos.jpg
END:VEVENT
BEGIN:VEVENT
DTSTART;TZID=Europe/Bucharest:20191018T113000
DTEND;TZID=Europe/Bucharest:20191018T113000
DTSTAMP:20260423T165922
CREATED:20190926T001805Z
LAST-MODIFIED:20190926T054700Z
UID:1799-1571398200-1571398200@americanromanianfestival.org
SUMMARY:From Romania: Grigoriu & Terényi String Quartets / October 18\, 2019
DESCRIPTION:From Romania: Grigoriu & Terényi String Quartets \nChamber Music Concert\nFriday\, October 18\, 2019\, 11:30 a.m.\nWayne State University\, Schaver Recital Hall\, 480 W Hancock St\, Detroit\, MI 48201 \nFree Admission\nJoin us for the chamber music concert “From Romania: Grigoriu & Terényi String Quartets” performed at Wayne State University’s Schaver Recital Hall \nThis concert is given as part of this season’s American Romanian Festival. \n\n[vc_row][vc_column width=”1/1″][vc_row_inner][vc_column_inner width=”1/3″][vc_column_text] \nArtists\nSujin Lim\, violin\nMarian Tănău\, violin\nMike Chen\, viola\nJeremy Crosmer\, cello \n[/vc_column_text][/vc_column_inner][vc_column_inner width=”2/3″][vc_column_text]\n\n[/vc_column_text][/vc_column_inner][/vc_row_inner][/vc_column][/vc_row] \n\nConcert Program\nEde Terényi (b. 1935)\nString Quartet No. 2\nTempo I Presto\nAndante Maestoso\nAllegro vivace\nAndante cantabile\nAllegretto \n  \nTheodor Grigoriu (b. 1926)\nString Quartet “On the River Arges”\nBallade: Moderato poco rubato\nDance with flute\nA la sorce: Lento soave\nThe small willow: Allegro molto \n  \n\nSponsors\n[dt_logos columns=”5″ dividers=”true” number=”12″ orderby=”date” order=”desc” animation=”none” category=”2019-sponsors”] \n 
URL:https://americanromanianfestival.org/event/from-romania-grigoriu-terenyi-october-18-2019/
LOCATION:Schaver Recital Hall\, Wayne State University\, 480 W Hancock St\, Detroit\, MI\, 48201\, United States
CATEGORIES:2019 American Romanian Festival,2019 Concert Series,American Romanian Festival Events
ATTACH;FMTTYPE=image/jpeg:https://americanromanianfestival.org/wp-content/uploads/2019/09/from-romania-grigoriu-terenyi-october-18-2019.jpg
END:VEVENT
BEGIN:VEVENT
DTSTART;TZID=Europe/Bucharest:20190927T113000
DTEND;TZID=Europe/Bucharest:20190927T113000
DTSTAMP:20260423T165922
CREATED:20190904T000235Z
LAST-MODIFIED:20190904T002347Z
UID:1767-1569583800-1569583800@americanromanianfestival.org
SUMMARY:The Power of Words & Song / September 27\, 2019
DESCRIPTION:The Power of Words & Song\nChamber Music Concert\nThe Power of Words & Song\nSeptember 27\, 2019\, 11:30 a.m. \nWayne State University\, Schaver Recital Hall\, 480 W Hancock St\, Detroit\, MI 48201 \nFree Admission\nJoin us for the chamber music concert “The Power of Words and Song” performed at Wayne State University’s Schaver Recital Hall. \nThis concert is given as part of this season’s American Romanian Festival. \n\n[vc_row][vc_column width=”1/1″][vc_row_inner][vc_column_inner width=”1/3″][vc_column_text] \nArtists\nAnné-Marie Condacse\, soprano\nMarina Ionescu\, piano \n[/vc_column_text][/vc_column_inner][vc_column_inner width=”2/3″][vc_column_text]\n[/vc_column_text][/vc_column_inner][/vc_row_inner][/vc_column][/vc_row] \n\nConcert Program\nGeorge Grigoriu (1927–1999)\nThe Music from\nThe Waves of the Danube  \nTiberiu Brediceanu (1877–1968)\nUnder the flowers when I swing (Pe sub flori mă legănai)\nThe cuckoo has left (S’a dus cucul de p’aici) \nGeorge Enescu (1881–1955)\nFrom La Seceriș:\nLittle flower on the water (Floricică de pe apă)\nStanca’s Song (Doina Stăncuței) \nDiamandi Gheciu (1892–1980)\nMorning Prayer (Morgengebet)\nThe Rag (Zdreanță)  \nNicolae Bretan (1887–1968)\nSleeping Little Birds (Somnoroase păsărele)  \nPascal Bentoiu (b. 1927)\nAbout War (Despre război) \nFlorin Comişel (1922–1985)\nThe Fairy Tales Prince Charming (Făt Frumos)\nfrom Leonard \nFelicia Donceanu (b. 1931)\nAmărată Turturea\nTestament \n  \n\nSponsors\n[dt_logos columns=”5″ dividers=”true” number=”12″ orderby=”date” order=”desc” animation=”none” category=”2019-sponsors”] \n 
URL:https://americanromanianfestival.org/event/the-power-of-words-and-song-september-27-2019/
LOCATION:Schaver Recital Hall\, Wayne State University\, 480 W Hancock St\, Detroit\, MI\, 48201\, United States
CATEGORIES:2019 American Romanian Festival,2019 Concert Series,American Romanian Festival Events
ATTACH;FMTTYPE=image/jpeg:https://americanromanianfestival.org/wp-content/uploads/2019/09/the-power-of-words-and-song-september-27-2019.jpg
END:VEVENT
BEGIN:VEVENT
DTSTART;TZID=Europe/Bucharest:20190420T190000
DTEND;TZID=Europe/Bucharest:20190420T190000
DTSTAMP:20260423T165922
CREATED:20190403T003149Z
LAST-MODIFIED:20190410T014926Z
UID:1694-1555786800-1555786800@americanromanianfestival.org
SUMMARY:Cvartet şi Octete: Opposites / April 20\, 2019
DESCRIPTION:Cvartet şi Octete: Opposites\nMuzica de Cameră\nCvartet şi Octete: Opposites\nSambata\, 20 Aprilie\, 2019\, ora 19:00  \nSala Capitol\, Filarmonica Banatul\, Timisoara\, Romania \nAdmission Tickets Sold At Door by Timișoara Philharmonic\nJoin us for the chamber music concert “Opposites” performed in Timisoara\, Romania. \nThis concert is given as part of the Romanian concerts as part of this season’s American Romanian Festival. \n\n[vc_row][vc_column width=”1/1″][vc_row_inner][vc_column_inner width=”1/3″][vc_column_text] \nArtists\nLucian Petrilă\, vioară\nSujin Lim\, vioară\nGabriela Petrilă\, vioară\nMarian Tănău\, violin\nMike Chen\,  violă\nIuliana Ambaruș\, violă\nAlexandra Guţu\, violoncel\nJeremy Crosmer\,  violoncel \n[/vc_column_text][/vc_column_inner][vc_column_inner width=”2/3″][vc_column_text]\n[/vc_column_text][/vc_column_inner][/vc_row_inner][/vc_column][/vc_row] \n\nConcert Program\nPhilip Glass (b. 1937)\nString Quartet No. 5 (1991) \nI\nII\nIII\nIV\nV \n  \n– Pauză – \n  \nMarc Mellits (b. 1966)\nOctet de Coarde (2010) \nstrong\, aggressive\, heavy\, & accented\nslow\nwith motion & funk\nindustrial\, massive \nDimitri Shostakovich (1906–1975)\nOctet de Coarde\, Op. 11 (1925) \nPrelude. Adagio\nScherzo. Allegro molto \n  \n\nSponsors\n[dt_logos columns=”5″ dividers=”true” number=”12″ orderby=”date” order=”desc” animation=”none” category=”2019-sponsors”] \n 
URL:https://americanromanianfestival.org/event/cvartet-si-octete-opposites-april-20-2019/
LOCATION:Sala Capitol\, Filarmonica Banatul\, Timișoara\, Q62G+8G\, Romania
CATEGORIES:2019 American Romanian Festival,2019 Concert Series,American Romanian Festival Events
ATTACH;FMTTYPE=image/jpeg:https://americanromanianfestival.org/wp-content/uploads/2019/04/chamber-music-opposites-romania.jpg
END:VEVENT
BEGIN:VEVENT
DTSTART;TZID=Europe/Bucharest:20190419T190000
DTEND;TZID=Europe/Bucharest:20190419T190000
DTSTAMP:20260423T165922
CREATED:20190403T003301Z
LAST-MODIFIED:20190405T024742Z
UID:1699-1555700400-1555700400@americanromanianfestival.org
SUMMARY:Muzica de Cameră: Crossroads  / April 19\, 2019
DESCRIPTION:Muzica de Cameră: Crossroads\nMuzica de Cameră\nVineri\, 19 Aprilie\, 2019\, ora 19:00\nSala Perian\, Colegiul National de Art “Ion Vidu”\, Timisoara\, Romania \nAdmission Tickets Sold At Door by Timișoara Philharmonic\nJoin a string quartet of Detroit Symphony Orchestra musicians for the chamber music concert “Crossroads” at in Timisoara\, Romania. The classical music road evolved through the centuries with distinct styles that were characteristic during certain historical periods. The music of the 20th century\, however\, continued without a dominant style. Composers created highly diverse works in many different musical styles\, such as Modernism\, Impressionism\, post-Romanticism\, Neoclassicism\, Expressionism\, Minimalism Atonality\, Serialism\, musique concrète\, and electronic music. Bartók\, Barber\, and Terényi all took a different tack in their works with a very distinct personal voice. Their styles are at crossroads.\n\nThis concert is given as part of the Romanian concerts as part of this season’s American Romanian Festival. \n\n[vc_row][vc_column width=”1/1″][vc_row_inner][vc_column_inner width=”1/4″][vc_column_text] \nArtists\nMarian Tănău\, vioară\nSujin Lim\, vioară\nMike Chen\, violă\nJeremy Crosmer\,violoncel \n[/vc_column_text][/vc_column_inner][vc_column_inner width=”3/4″][vc_column_text][/vc_column_text][/vc_column_inner][/vc_row_inner][/vc_column][/vc_row] \n\nConcert Program\nEde Terényi (b. 1935)\nCvartet de Coarde No. 1\nAdagio\nAllegro moderato\nTranquillo\nVivace\nLento assai \nSamuel Barber (1910–1981)\nCvartet de Coarde Op. 11 in si minor (1936)\nMolto allegro e appassionato\nMolto adagio [attacca]\nMolto allegro (come prima) \n– Pauză – \nBéla Bartók (1881–1945)\nCvartet de Coarde No. 5\, Sz. 102\, BB 110 (1934)\nAllegro\nAdagio molto\nScherzo: alla bulgarese\nAndante\nFinale: Allegro vivace \n  \n\nSponsors\n[dt_logos columns=”5″ dividers=”true” number=”12″ orderby=”date” order=”desc” animation=”none” category=”2019-sponsors”] \n 
URL:https://americanromanianfestival.org/event/muzica-de-camera-crossroads-i-april-19-2019/
LOCATION:Sala Perian\, Colegiul National de Art “Ion Vidu”\, Timișoara\, P6WM+PQ\, Romania
CATEGORIES:2019 American Romanian Festival,2019 Concert Series,American Romanian Festival Events
ATTACH;FMTTYPE=image/jpeg:https://americanromanianfestival.org/wp-content/uploads/2019/04/chamber-music-crossroads-romania.jpg
END:VEVENT
BEGIN:VEVENT
DTSTART;TZID=Europe/Bucharest:20190417T190000
DTEND;TZID=Europe/Bucharest:20190417T190000
DTSTAMP:20260423T165922
CREATED:20190403T003142Z
LAST-MODIFIED:20190406T181741Z
UID:1705-1555527600-1555527600@americanromanianfestival.org
SUMMARY:Recital de Trio cu Pian: From America to the East  / April 17\, 2019
DESCRIPTION:Recital de Trio cu Pian: From America to the East\nMuzica Recital\nMiercuri\, 17 Aprilie\, 2019\, ora 19:00 \nSala Capitol\, Filarmonica Banatul\, Timisoara\, Romania \nAdmission Tickets Sold At Door by Timișoara Philharmonic\nJoin us for the chamber music concert “From America to the East” in Timisoara\, Romania. \nThis concert is given as part of the Romanian concerts as part of this season’s American Romanian Festival. \n\n[vc_row][vc_column width=”1/1″][vc_row_inner][vc_column_inner width=”1/4″][vc_column_text] \nArtists\nMarian Tănău\, vioară\nAlexandra Guţu\, violoncel\nVictor Părău\, pian \n[/vc_column_text][/vc_column_inner][vc_column_inner width=”3/4″][vc_column_text][/vc_column_text][/vc_column_inner][/vc_row_inner][/vc_column][/vc_row] \n\nConcert Program\nAmy Beach (1867–1944)\nTrio cu Pian\, Op. 150\nAllegro\nLento expressivo\nAllegro con brio \nWilliam Bolcom (b. 1938)\nTrio Primavara \nChick Corea (b. 1940)\nAddendum \n– Pauză – \nDimitri Shostakovich (1906–1975)\n Trio cu Pian No. 2\, Op. 67\nAndante\nAllegro con brio\nLargo\nAllegretto  \n  \n\nSponsors\n[dt_logos columns=”5″ dividers=”true” number=”12″ orderby=”date” order=”desc” animation=”none” category=”2019-sponsors”] \n 
URL:https://americanromanianfestival.org/event/recital-de-trio-cu-pian-from-america-to-the-east-april-17-2019/
LOCATION:Sala Capitol\, Filarmonica Banatul\, Timișoara\, Q62G+8G\, Romania
CATEGORIES:2019 American Romanian Festival,2019 Concert Series,American Romanian Festival Events
ATTACH;FMTTYPE=image/jpeg:https://americanromanianfestival.org/wp-content/uploads/2019/04/chamber-music-from-america-to-east-romania.jpg
END:VEVENT
BEGIN:VEVENT
DTSTART;TZID=America/Detroit:20190309T150000
DTEND;TZID=America/Detroit:20190309T150000
DTSTAMP:20260423T165922
CREATED:20190212T190412Z
LAST-MODIFIED:20190213T033906Z
UID:1672-1552143600-1552143600@americanromanianfestival.org
SUMMARY:Crossroads Chamber Music Concert / March 9\, 2019
DESCRIPTION:Chamber Music: Crossroads\nChamber Concert\nSaturday\, March 9\, 2019\, 3 p.m.\nSteinway Piano Gallery Detroit\, 2700 E West Maple Rd\, Commerce Charter Twp\, MI 48390 \n$20 Admission Tickets\nJoin a string quartet of Detroit Symphony Orchestra musicians for the chamber music concert “Crossroads” at Steinway Piano Gallery.\nThe classical music road evolved through the centuries with distinct styles that were characteristic during certain historical periods. The music of the 20th century\, however\, continued without a dominant style. Composers created a highly diverse works in many different musical styles\, such as Modernism\, Impressionism\, post-Romanticism\, Neoclassicism\, Expressionism\, Minimalism  Atonality\, Serialism\, musique concrète\, and electronic music. Bartók\, Barber\, and Glass all took a different tack in their works with a very distinct personal voice. Their styles are at crossroads. \nThis concert is given in preparation for the Romanian concerts as part of this season’s American Romanian Festival. \n\n[vc_row][vc_column width=”1/1″][vc_row_inner][vc_column_inner width=”1/4″][vc_column_text] \nArtists\nSujin Lim\, violin\nMarian Tănău\, violin\nMike Chen\, viola\nJeremy Crosmer\, cello \n[/vc_column_text][/vc_column_inner][vc_column_inner width=”3/4″][vc_column_text][/vc_column_text][/vc_column_inner][/vc_row_inner][/vc_column][/vc_row] \n\nConcert Program\nBéla Bartók (1881–1945)\nString Quartet No. 5 \nAllegro\nAdagio molto\nScherzo: alla bulgarese\nAndante\nFinale: Allegro vivace \nSamuel Barber (1910–1981)\nString Quartet\, Op. 11 in b minor (1936) \nMolto allegro e appassionato\nMolto adagio [attacca]\nMolto allegro (come prima) \n– INTERMISSION – \nPhilip Glass (b. 1937)\nString Quartet No. 5 (1991) \nI\nII\nIII\nIV\nV \n  \n\nSponsors\n[dt_logos columns=”5″ dividers=”true” number=”12″ orderby=”date” order=”desc” animation=”none” category=”2019-sponsors”] \n 
URL:https://americanromanianfestival.org/event/crossroads-chamber-music-concert-march-9-2019/
LOCATION:Steinway Piano Gallery\, 2700 E. West Maple Rd.\, Commerce Charter Township\, MI\, 48390\, United States
CATEGORIES:2019 American Romanian Festival,2019 Concert Series,American Romanian Festival Events
ATTACH;FMTTYPE=image/jpeg:https://americanromanianfestival.org/wp-content/uploads/2019/02/chamber-music-crossroads.jpg
END:VEVENT
BEGIN:VEVENT
DTSTART;TZID=America/Detroit:20190222T113000
DTEND;TZID=America/Detroit:20190222T123000
DTSTAMP:20260423T165922
CREATED:20190116T020654Z
LAST-MODIFIED:20190212T014022Z
UID:1647-1550835000-1550838600@americanromanianfestival.org
SUMMARY:Music from Transylvania:  Bartók and Terényi String Quartets / February 22\, 2019
DESCRIPTION:Classical Music from Transylvania: Bartók & Terényi String Quartets\nChamber Concert\nFriday\, February 22\, 2019\, 11:30 a.m.\nWayne State University\, Schaver Recital Hall\, 480 W Hancock St\, Detroit\, MI 48201 \nFREE Admission\nJoin a string quartet of Detroit Symphony Orchestra musicians in this trip through the eerie and magical classical music of Transylvania in the 20th century\, featuring Béla Bartók’s String Quartet No. 5 and Ede Terényi’s String Quartet No. 1.\nEde Terényi is a Romanian composer of Hungarian nationality. He was born in 1935 and educated in Cluj-Napoca\, Romania\, and later in Darmstad. Composed in 1974\, Terenyi’s Quartet No.1 continues the tradition of Hungarian national composers such as Bartók and Ligetti. The work is written in five movements\, and it includes unusual techniques\, eerie melodies\, and imitations of natural sounds. \nThe String Quartet No. 5 of Béla Bartók was written in 1934. It has five movements and it is conceived in an arch form with a symmetry around the middle movement\, which is a Scherzo written in the rhythmical style of  Bulgarian folk music featuring a meter of 4+2+3. The quartet was written as a result of a commission by Elizabeth Sprague Coolidge who was an American pianist and patron of the music. The work was premiered in Washington\, DC\,  by the Kolisch Quartet in 1934.  \n\n[vc_row][vc_column width=”1/1″][vc_row_inner][vc_column_inner width=”1/4″][vc_column_text] \nArtists\nMarian Tănău\, violin\nSujin Lim\, violin\nMike Chen\, viola\nJeremy Crosmer\, cello \n[/vc_column_text][/vc_column_inner][vc_column_inner width=”3/4″][vc_column_text][/vc_column_text][/vc_column_inner][/vc_row_inner][/vc_column][/vc_row] \n\n  \n\nConcert Program\nBéla Bartók (1881-1945)\nString Quartet No. 5 \nAllegro\nAdagio molto\nScherzo: alla bulgarese\nAndante\nFinale: Allegro vivace \n– INTERMISSION – \nEde Terényi (b. 1935)\nString Quartet No. 1 \nAdagio\nAllegro moderato\nTranquillo\nVivace\nLento assai \n  \n\nSponsors\n[dt_logos columns=”5″ dividers=”true” number=”12″ orderby=”date” order=”desc” animation=”none” category=”2019-sponsors”] \n 
URL:https://americanromanianfestival.org/event/terenyi-music-february-22-2019-2/
LOCATION:Schaver Recital Hall\, Wayne State University\, 480 W Hancock St\, Detroit\, MI\, 48201\, United States
CATEGORIES:2019 American Romanian Festival,2019 Concert Series,American Romanian Festival Events
ATTACH;FMTTYPE=image/jpeg:https://americanromanianfestival.org/wp-content/uploads/2019/01/music-from-transylvania-1.jpg
END:VEVENT
BEGIN:VEVENT
DTSTART;TZID=America/Detroit:20190204T193000
DTEND;TZID=America/Detroit:20190204T213000
DTSTAMP:20260423T165922
CREATED:20190113T180856Z
LAST-MODIFIED:20211223T002928Z
UID:1593-1549308600-1549315800@americanromanianfestival.org
SUMMARY:American Gems & Romanian Cimbalom Music / Wayne State University\, February 4\, 2019
DESCRIPTION:American Gems & Romanian Cimbalom Music\nChamber Orchestra Concert\nMonday\, February 4\, 2019\, 7:30 p.m.\nWayne State University\, Schaver Recital Hall\, 480 W Hancock St\, Detroit\, MI 48201 \nFREE Admission\nJoin us for a Chamber Orchestra Concert at Wayne State University\, February 4\, 2019\, at the Shaver Music Recital Hall\, to enjoy performances of American Gems and Romanian Cimbalom Music.\nBrilliance and beauty abound as Romanian cimbalom virtuoso Alexandru Şura performs an arrangement of Paganini’s Caprice No. 24\, as well as other Romanian favorites such as Enescu’s Rhapsody No. 1\, the Barbu Lăutaru Suite\, and Dinicu’s Hora staccato with the Wayne State University Orchestra\, joined by faculty and musicians from the Detroit Symphony Orchestra. The first part of the program features American gems by Copland\, Moore\, and Piston. \n\n[vc_row][vc_column width=”1/1″][vc_row_inner][vc_column_inner width=”1/4″][vc_column_text] \nArtists\nKypros Markou\, conductor\nAlexandru Şura\, cimbalom\nStephanie Shapiro\, English Horn\nMichael McGowan\, trumpet\nWayne State University Orchestra With Faculty and Detroit Symphony Musicians \n[/vc_column_text][/vc_column_inner][vc_column_inner width=”3/4″][vc_column_text][/vc_column_text][/vc_column_inner][/vc_row_inner][/vc_column][/vc_row] \n\n  \n\nConcert Program\nWalter Piston (1894–1976)\n Serenata for Orchestra   \nDorothy Rudd Moore (b. 1940)\n Transcension   \nAaron Copland (1900-1990)\n Quiet City\nStephanie Shapiro\, English Horn\, Mike McGowan\, trumpet \n– INTERMISSION – \nGeorge Enescu (1881–1955) (arr. Şura)\n Romanian Rhapsody No. 1 \nNiccolò Paganini (1782-1840) (arr. Şura)\n Caprice No. 24   \nanonymous (arr. Şura)\n Folk suite Barbu Lăutarul \nGrigoraș Dinicu (1889-1949) (arr. Şura)\n Hora Staccato\nAlexandru Şura\, cimbalom \n  \n\nSponsors\n[dt_logos columns=”5″ dividers=”true” number=”12″ orderby=”date” order=”desc” animation=”none” category=”2019-sponsors”] \n 
URL:https://americanromanianfestival.org/event/american-gems-and-romanian-cimbalom-music/
LOCATION:Schaver Recital Hall\, Wayne State University\, 480 W Hancock St\, Detroit\, MI\, 48201\, United States
CATEGORIES:2019 American Romanian Festival,2019 Concert Series,American Romanian Festival Events
ATTACH;FMTTYPE=image/jpeg:https://americanromanianfestival.org/wp-content/uploads/2018/12/american-gems-and-romanian-cimbalom-music-2.jpg
END:VEVENT
END:VCALENDAR