BEGIN:VCALENDAR
VERSION:2.0
PRODID:-//American Romanian Festival - ECPv6.15.20//NONSGML v1.0//EN
CALSCALE:GREGORIAN
METHOD:PUBLISH
X-WR-CALNAME:American Romanian Festival
X-ORIGINAL-URL:https://americanromanianfestival.org
X-WR-CALDESC:Events for American Romanian Festival
REFRESH-INTERVAL;VALUE=DURATION:PT1H
X-Robots-Tag:noindex
X-PUBLISHED-TTL:PT1H
BEGIN:VTIMEZONE
TZID:Europe/Bucharest
BEGIN:DAYLIGHT
TZOFFSETFROM:+0200
TZOFFSETTO:+0300
TZNAME:EEST
DTSTART:20190331T010000
END:DAYLIGHT
BEGIN:STANDARD
TZOFFSETFROM:+0300
TZOFFSETTO:+0200
TZNAME:EET
DTSTART:20191027T010000
END:STANDARD
BEGIN:DAYLIGHT
TZOFFSETFROM:+0200
TZOFFSETTO:+0300
TZNAME:EEST
DTSTART:20200329T010000
END:DAYLIGHT
BEGIN:STANDARD
TZOFFSETFROM:+0300
TZOFFSETTO:+0200
TZNAME:EET
DTSTART:20201025T010000
END:STANDARD
BEGIN:DAYLIGHT
TZOFFSETFROM:+0200
TZOFFSETTO:+0300
TZNAME:EEST
DTSTART:20210328T010000
END:DAYLIGHT
BEGIN:STANDARD
TZOFFSETFROM:+0300
TZOFFSETTO:+0200
TZNAME:EET
DTSTART:20211031T010000
END:STANDARD
END:VTIMEZONE
BEGIN:VEVENT
DTSTART;TZID=Europe/Bucharest:20200203T193000
DTEND;TZID=Europe/Bucharest:20200203T193000
DTSTAMP:20260423T173439
CREATED:20200114T022701Z
LAST-MODIFIED:20200126T183829Z
UID:1879-1580758200-1580758200@americanromanianfestival.org
SUMMARY:Chamber Orchestra Concert / February 3\, 2020
DESCRIPTION:Chamber Orchestra Concert: With Wayne State University students and faculty and guests from the Detroit Symphony Orchestra\nChamber Music Concert\nMonday\, February 3\, 2020\, 7:30 p.m.\nWayne State University\, Schaver Recital Hall\, 480 W Hancock St\, Detroit\, MI 48201 \nFree Admission\n\nThe American Romanian Festival once again presents the Wayne State University Orchestra\, joined by WSU faculty and musicians from the Detroit Symphony Orchestra\, in an evening of music guaranteed to help you travel over plains and borders. The first part of the program features Arthur Foote’s melodious and dynamic Serenade for Strings\, followed by Exorcisme\, a work for flute and chamber orchestra by Romanian composer Remus Georgescu and featuring WSU alumnus Shantanique Moore\, currently a fellow with the Pittsburgh Symphony Orchestra. The concert continues with the Almajan Suite by Remus Georgescu and selections from Old American Songs by Aaron Copland\, featuring Wayne State University’s newly appointed voice professor Jonathan Lasch. The concerts ends with Constantin Silvestri’s melodious\, playful\, and fiery Three Pieces for String Orchestra. \nThis concert is given as part of this season’s American Romanian Festival. \n\n[vc_row][vc_column width=”1/1″][vc_row_inner][vc_column_inner width=”1/4″][vc_column_text] \nArtists\nKypros Markou\, conductor\nJonathan Lasch\, baritone\nShantanique Moore\, flute\nWayne State University Orchestra  \n[/vc_column_text][/vc_column_inner][vc_column_inner width=”3/4″][vc_column_text] \n[/vc_column_text][/vc_column_inner][/vc_row_inner][/vc_column][/vc_row] \n\nConcert Program\nArthur Foote (1853–1937)\nSerenade\, Op. 25\nPraeludium: Allegro comodo\nAir: Adagio\, ma non troppo\nIntermezzo: Allegretto grazioso\nRomanze: Andante con moto\nGavotte: Allegro deciso \n  \nRemus Georgescu (b. 1932)\nExorcisme for Flute and String Orchestra  \nShantanique Moore\, flute \n  \n– INTERMISSION – \n  \nRemus Georgescu (b. 1932)\nSuita Almăjană for String Orchestra \nAllegro semplice\nLento\, un poco rubato\nAllegro moderato \n  \nAaron Copland (1900–1990)\nOld American Songs    \nSimple Gifts\nI Bought Me a Cat\nAt the River\nZion’s Walls \nJonathan Lasch\, baritone \n  \nConstantin Silvestri (1913–1969)\nThree Pieces for Strings\nPesante. Scherzoso\nCantabile\nVeloce \n  \n\n  \n 
URL:https://americanromanianfestival.org/event/chamber-orchestra-concert-february-3-2020/
LOCATION:Schaver Recital Hall\, Wayne State University\, 480 W Hancock St\, Detroit\, MI\, 48201\, United States
CATEGORIES:2020 American Romanian Festival,2020 Concert Series,American Romanian Festival Events
ATTACH;FMTTYPE=image/jpeg:https://americanromanianfestival.org/wp-content/uploads/2020/01/wsu-dso-orchestra-concert.jpg
END:VEVENT
END:VCALENDAR